BEGIN:VCALENDAR
VERSION:2.0
PRODID:-//St. John&#039;s Episcopal Church Jackson Hole, WY - ECPv6.15.20//NONSGML v1.0//EN
CALSCALE:GREGORIAN
METHOD:PUBLISH
X-ORIGINAL-URL:https://www.stjohnsjackson.org
X-WR-CALDESC:Events for St. John&#039;s Episcopal Church Jackson Hole, WY
REFRESH-INTERVAL;VALUE=DURATION:PT1H
X-Robots-Tag:noindex
X-PUBLISHED-TTL:PT1H
BEGIN:VTIMEZONE
TZID:America/Denver
BEGIN:DAYLIGHT
TZOFFSETFROM:-0700
TZOFFSETTO:-0600
TZNAME:MDT
DTSTART:20250309T090000
END:DAYLIGHT
BEGIN:STANDARD
TZOFFSETFROM:-0600
TZOFFSETTO:-0700
TZNAME:MST
DTSTART:20251102T080000
END:STANDARD
BEGIN:DAYLIGHT
TZOFFSETFROM:-0700
TZOFFSETTO:-0600
TZNAME:MDT
DTSTART:20260308T090000
END:DAYLIGHT
BEGIN:STANDARD
TZOFFSETFROM:-0600
TZOFFSETTO:-0700
TZNAME:MST
DTSTART:20261101T080000
END:STANDARD
BEGIN:DAYLIGHT
TZOFFSETFROM:-0700
TZOFFSETTO:-0600
TZNAME:MDT
DTSTART:20270314T090000
END:DAYLIGHT
BEGIN:STANDARD
TZOFFSETFROM:-0600
TZOFFSETTO:-0700
TZNAME:MST
DTSTART:20271107T080000
END:STANDARD
BEGIN:DAYLIGHT
TZOFFSETFROM:-0700
TZOFFSETTO:-0600
TZNAME:MDT
DTSTART:20280312T090000
END:DAYLIGHT
BEGIN:STANDARD
TZOFFSETFROM:-0600
TZOFFSETTO:-0700
TZNAME:MST
DTSTART:20281105T080000
END:STANDARD
END:VTIMEZONE
BEGIN:VEVENT
DTSTART;TZID=America/Denver:20260723T071500
DTEND;TZID=America/Denver:20260723T084500
DTSTAMP:20260425T044228
CREATED:20251103T195327Z
LAST-MODIFIED:20251103T195327Z
UID:10001415-1784790900-1784796300@www.stjohnsjackson.org
SUMMARY:Men's Breakfast Study Group
DESCRIPTION:All men of the parish are invited to join together for discussion\, fellowship and breakfast.
URL:https://www.stjohnsjackson.org/event/mens-breakfast-study-group-37-2/2026-07-23/
LOCATION:The Wort Hotel
ATTACH;FMTTYPE=image/jpeg:https://www.stjohnsjackson.org/wp-content/uploads/2025/06/MensBflast2-scaled.jpg
END:VEVENT
BEGIN:VEVENT
DTSTART;TZID=America/Denver:20260730T071500
DTEND;TZID=America/Denver:20260730T084500
DTSTAMP:20260425T044228
CREATED:20251103T195327Z
LAST-MODIFIED:20251103T195327Z
UID:10001416-1785395700-1785401100@www.stjohnsjackson.org
SUMMARY:Men's Breakfast Study Group
DESCRIPTION:All men of the parish are invited to join together for discussion\, fellowship and breakfast.
URL:https://www.stjohnsjackson.org/event/mens-breakfast-study-group-37-2/2026-07-30/
LOCATION:The Wort Hotel
ATTACH;FMTTYPE=image/jpeg:https://www.stjohnsjackson.org/wp-content/uploads/2025/06/MensBflast2-scaled.jpg
END:VEVENT
BEGIN:VEVENT
DTSTART;TZID=America/Denver:20260806T071500
DTEND;TZID=America/Denver:20260806T084500
DTSTAMP:20260425T044228
CREATED:20251103T195327Z
LAST-MODIFIED:20251103T195327Z
UID:10001417-1786000500-1786005900@www.stjohnsjackson.org
SUMMARY:Men's Breakfast Study Group
DESCRIPTION:All men of the parish are invited to join together for discussion\, fellowship and breakfast.
URL:https://www.stjohnsjackson.org/event/mens-breakfast-study-group-37-2/2026-08-06/
LOCATION:The Wort Hotel
ATTACH;FMTTYPE=image/jpeg:https://www.stjohnsjackson.org/wp-content/uploads/2025/06/MensBflast2-scaled.jpg
END:VEVENT
BEGIN:VEVENT
DTSTART;TZID=America/Denver:20260813T071500
DTEND;TZID=America/Denver:20260813T084500
DTSTAMP:20260425T044228
CREATED:20251103T195327Z
LAST-MODIFIED:20251103T195327Z
UID:10001418-1786605300-1786610700@www.stjohnsjackson.org
SUMMARY:Men's Breakfast Study Group
DESCRIPTION:All men of the parish are invited to join together for discussion\, fellowship and breakfast.
URL:https://www.stjohnsjackson.org/event/mens-breakfast-study-group-37-2/2026-08-13/
LOCATION:The Wort Hotel
ATTACH;FMTTYPE=image/jpeg:https://www.stjohnsjackson.org/wp-content/uploads/2025/06/MensBflast2-scaled.jpg
END:VEVENT
BEGIN:VEVENT
DTSTART;TZID=America/Denver:20260820T071500
DTEND;TZID=America/Denver:20260820T084500
DTSTAMP:20260425T044228
CREATED:20251103T195327Z
LAST-MODIFIED:20251103T195327Z
UID:10001419-1787210100-1787215500@www.stjohnsjackson.org
SUMMARY:Men's Breakfast Study Group
DESCRIPTION:All men of the parish are invited to join together for discussion\, fellowship and breakfast.
URL:https://www.stjohnsjackson.org/event/mens-breakfast-study-group-37-2/2026-08-20/
LOCATION:The Wort Hotel
ATTACH;FMTTYPE=image/jpeg:https://www.stjohnsjackson.org/wp-content/uploads/2025/06/MensBflast2-scaled.jpg
END:VEVENT
BEGIN:VEVENT
DTSTART;TZID=America/Denver:20260827T071500
DTEND;TZID=America/Denver:20260827T084500
DTSTAMP:20260425T044228
CREATED:20251103T195327Z
LAST-MODIFIED:20251103T195327Z
UID:10001420-1787814900-1787820300@www.stjohnsjackson.org
SUMMARY:Men's Breakfast Study Group
DESCRIPTION:All men of the parish are invited to join together for discussion\, fellowship and breakfast.
URL:https://www.stjohnsjackson.org/event/mens-breakfast-study-group-37-2/2026-08-27/
LOCATION:The Wort Hotel
ATTACH;FMTTYPE=image/jpeg:https://www.stjohnsjackson.org/wp-content/uploads/2025/06/MensBflast2-scaled.jpg
END:VEVENT
BEGIN:VEVENT
DTSTART;TZID=America/Denver:20260903T071500
DTEND;TZID=America/Denver:20260903T084500
DTSTAMP:20260425T044228
CREATED:20251103T195327Z
LAST-MODIFIED:20251103T195327Z
UID:10001421-1788419700-1788425100@www.stjohnsjackson.org
SUMMARY:Men's Breakfast Study Group
DESCRIPTION:All men of the parish are invited to join together for discussion\, fellowship and breakfast.
URL:https://www.stjohnsjackson.org/event/mens-breakfast-study-group-37-2/2026-09-03/
LOCATION:The Wort Hotel
ATTACH;FMTTYPE=image/jpeg:https://www.stjohnsjackson.org/wp-content/uploads/2025/06/MensBflast2-scaled.jpg
END:VEVENT
BEGIN:VEVENT
DTSTART;TZID=America/Denver:20260910T071500
DTEND;TZID=America/Denver:20260910T084500
DTSTAMP:20260425T044228
CREATED:20251103T195327Z
LAST-MODIFIED:20251103T195327Z
UID:10001422-1789024500-1789029900@www.stjohnsjackson.org
SUMMARY:Men's Breakfast Study Group
DESCRIPTION:All men of the parish are invited to join together for discussion\, fellowship and breakfast.
URL:https://www.stjohnsjackson.org/event/mens-breakfast-study-group-37-2/2026-09-10/
LOCATION:The Wort Hotel
ATTACH;FMTTYPE=image/jpeg:https://www.stjohnsjackson.org/wp-content/uploads/2025/06/MensBflast2-scaled.jpg
END:VEVENT
BEGIN:VEVENT
DTSTART;TZID=America/Denver:20260917T071500
DTEND;TZID=America/Denver:20260917T084500
DTSTAMP:20260425T044228
CREATED:20251103T195327Z
LAST-MODIFIED:20251103T195327Z
UID:10001423-1789629300-1789634700@www.stjohnsjackson.org
SUMMARY:Men's Breakfast Study Group
DESCRIPTION:All men of the parish are invited to join together for discussion\, fellowship and breakfast.
URL:https://www.stjohnsjackson.org/event/mens-breakfast-study-group-37-2/2026-09-17/
LOCATION:The Wort Hotel
ATTACH;FMTTYPE=image/jpeg:https://www.stjohnsjackson.org/wp-content/uploads/2025/06/MensBflast2-scaled.jpg
END:VEVENT
BEGIN:VEVENT
DTSTART;TZID=America/Denver:20260924T071500
DTEND;TZID=America/Denver:20260924T084500
DTSTAMP:20260425T044228
CREATED:20251103T195327Z
LAST-MODIFIED:20251103T195327Z
UID:10001424-1790234100-1790239500@www.stjohnsjackson.org
SUMMARY:Men's Breakfast Study Group
DESCRIPTION:All men of the parish are invited to join together for discussion\, fellowship and breakfast.
URL:https://www.stjohnsjackson.org/event/mens-breakfast-study-group-37-2/2026-09-24/
LOCATION:The Wort Hotel
ATTACH;FMTTYPE=image/jpeg:https://www.stjohnsjackson.org/wp-content/uploads/2025/06/MensBflast2-scaled.jpg
END:VEVENT
BEGIN:VEVENT
DTSTART;TZID=America/Denver:20261001T071500
DTEND;TZID=America/Denver:20261001T084500
DTSTAMP:20260425T044228
CREATED:20251103T195327Z
LAST-MODIFIED:20251103T195327Z
UID:10001425-1790838900-1790844300@www.stjohnsjackson.org
SUMMARY:Men's Breakfast Study Group
DESCRIPTION:All men of the parish are invited to join together for discussion\, fellowship and breakfast.
URL:https://www.stjohnsjackson.org/event/mens-breakfast-study-group-37-2/2026-10-01/
LOCATION:The Wort Hotel
ATTACH;FMTTYPE=image/jpeg:https://www.stjohnsjackson.org/wp-content/uploads/2025/06/MensBflast2-scaled.jpg
END:VEVENT
BEGIN:VEVENT
DTSTART;TZID=America/Denver:20261008T071500
DTEND;TZID=America/Denver:20261008T084500
DTSTAMP:20260425T044228
CREATED:20251103T195327Z
LAST-MODIFIED:20251103T195327Z
UID:10001426-1791443700-1791449100@www.stjohnsjackson.org
SUMMARY:Men's Breakfast Study Group
DESCRIPTION:All men of the parish are invited to join together for discussion\, fellowship and breakfast.
URL:https://www.stjohnsjackson.org/event/mens-breakfast-study-group-37-2/2026-10-08/
LOCATION:The Wort Hotel
ATTACH;FMTTYPE=image/jpeg:https://www.stjohnsjackson.org/wp-content/uploads/2025/06/MensBflast2-scaled.jpg
END:VEVENT
BEGIN:VEVENT
DTSTART;TZID=America/Denver:20261015T071500
DTEND;TZID=America/Denver:20261015T084500
DTSTAMP:20260425T044228
CREATED:20251103T195327Z
LAST-MODIFIED:20251103T195327Z
UID:10001427-1792048500-1792053900@www.stjohnsjackson.org
SUMMARY:Men's Breakfast Study Group
DESCRIPTION:All men of the parish are invited to join together for discussion\, fellowship and breakfast.
URL:https://www.stjohnsjackson.org/event/mens-breakfast-study-group-37-2/2026-10-15/
LOCATION:The Wort Hotel
ATTACH;FMTTYPE=image/jpeg:https://www.stjohnsjackson.org/wp-content/uploads/2025/06/MensBflast2-scaled.jpg
END:VEVENT
BEGIN:VEVENT
DTSTART;TZID=America/Denver:20261022T071500
DTEND;TZID=America/Denver:20261022T084500
DTSTAMP:20260425T044228
CREATED:20251103T195327Z
LAST-MODIFIED:20251103T195327Z
UID:10001428-1792653300-1792658700@www.stjohnsjackson.org
SUMMARY:Men's Breakfast Study Group
DESCRIPTION:All men of the parish are invited to join together for discussion\, fellowship and breakfast.
URL:https://www.stjohnsjackson.org/event/mens-breakfast-study-group-37-2/2026-10-22/
LOCATION:The Wort Hotel
ATTACH;FMTTYPE=image/jpeg:https://www.stjohnsjackson.org/wp-content/uploads/2025/06/MensBflast2-scaled.jpg
END:VEVENT
BEGIN:VEVENT
DTSTART;TZID=America/Denver:20261029T071500
DTEND;TZID=America/Denver:20261029T084500
DTSTAMP:20260425T044228
CREATED:20251103T195327Z
LAST-MODIFIED:20251103T195327Z
UID:10001429-1793258100-1793263500@www.stjohnsjackson.org
SUMMARY:Men's Breakfast Study Group
DESCRIPTION:All men of the parish are invited to join together for discussion\, fellowship and breakfast.
URL:https://www.stjohnsjackson.org/event/mens-breakfast-study-group-37-2/2026-10-29/
LOCATION:The Wort Hotel
ATTACH;FMTTYPE=image/jpeg:https://www.stjohnsjackson.org/wp-content/uploads/2025/06/MensBflast2-scaled.jpg
END:VEVENT
BEGIN:VEVENT
DTSTART;TZID=America/Denver:20261105T071500
DTEND;TZID=America/Denver:20261105T084500
DTSTAMP:20260425T044228
CREATED:20251103T195327Z
LAST-MODIFIED:20251103T195327Z
UID:10001430-1793862900-1793868300@www.stjohnsjackson.org
SUMMARY:Men's Breakfast Study Group
DESCRIPTION:All men of the parish are invited to join together for discussion\, fellowship and breakfast.
URL:https://www.stjohnsjackson.org/event/mens-breakfast-study-group-37-2/2026-11-05/
LOCATION:The Wort Hotel
ATTACH;FMTTYPE=image/jpeg:https://www.stjohnsjackson.org/wp-content/uploads/2025/06/MensBflast2-scaled.jpg
END:VEVENT
BEGIN:VEVENT
DTSTART;TZID=America/Denver:20261112T071500
DTEND;TZID=America/Denver:20261112T084500
DTSTAMP:20260425T044228
CREATED:20251103T195327Z
LAST-MODIFIED:20251103T195327Z
UID:10001431-1794467700-1794473100@www.stjohnsjackson.org
SUMMARY:Men's Breakfast Study Group
DESCRIPTION:All men of the parish are invited to join together for discussion\, fellowship and breakfast.
URL:https://www.stjohnsjackson.org/event/mens-breakfast-study-group-37-2/2026-11-12/
LOCATION:The Wort Hotel
ATTACH;FMTTYPE=image/jpeg:https://www.stjohnsjackson.org/wp-content/uploads/2025/06/MensBflast2-scaled.jpg
END:VEVENT
BEGIN:VEVENT
DTSTART;TZID=America/Denver:20261119T071500
DTEND;TZID=America/Denver:20261119T084500
DTSTAMP:20260425T044228
CREATED:20251103T195327Z
LAST-MODIFIED:20251103T195327Z
UID:10001432-1795072500-1795077900@www.stjohnsjackson.org
SUMMARY:Men's Breakfast Study Group
DESCRIPTION:All men of the parish are invited to join together for discussion\, fellowship and breakfast.
URL:https://www.stjohnsjackson.org/event/mens-breakfast-study-group-37-2/2026-11-19/
LOCATION:The Wort Hotel
ATTACH;FMTTYPE=image/jpeg:https://www.stjohnsjackson.org/wp-content/uploads/2025/06/MensBflast2-scaled.jpg
END:VEVENT
BEGIN:VEVENT
DTSTART;TZID=America/Denver:20261126T071500
DTEND;TZID=America/Denver:20261126T084500
DTSTAMP:20260425T044228
CREATED:20251103T195327Z
LAST-MODIFIED:20251103T195327Z
UID:10001433-1795677300-1795682700@www.stjohnsjackson.org
SUMMARY:Men's Breakfast Study Group
DESCRIPTION:All men of the parish are invited to join together for discussion\, fellowship and breakfast.
URL:https://www.stjohnsjackson.org/event/mens-breakfast-study-group-37-2/2026-11-26/
LOCATION:The Wort Hotel
ATTACH;FMTTYPE=image/jpeg:https://www.stjohnsjackson.org/wp-content/uploads/2025/06/MensBflast2-scaled.jpg
END:VEVENT
BEGIN:VEVENT
DTSTART;TZID=America/Denver:20261203T071500
DTEND;TZID=America/Denver:20261203T084500
DTSTAMP:20260425T044228
CREATED:20251103T195327Z
LAST-MODIFIED:20251103T195327Z
UID:10001434-1796282100-1796287500@www.stjohnsjackson.org
SUMMARY:Men's Breakfast Study Group
DESCRIPTION:All men of the parish are invited to join together for discussion\, fellowship and breakfast.
URL:https://www.stjohnsjackson.org/event/mens-breakfast-study-group-37-2/2026-12-03/
LOCATION:The Wort Hotel
ATTACH;FMTTYPE=image/jpeg:https://www.stjohnsjackson.org/wp-content/uploads/2025/06/MensBflast2-scaled.jpg
END:VEVENT
BEGIN:VEVENT
DTSTART;TZID=America/Denver:20261210T071500
DTEND;TZID=America/Denver:20261210T084500
DTSTAMP:20260425T044228
CREATED:20251103T195327Z
LAST-MODIFIED:20251103T195327Z
UID:10001435-1796886900-1796892300@www.stjohnsjackson.org
SUMMARY:Men's Breakfast Study Group
DESCRIPTION:All men of the parish are invited to join together for discussion\, fellowship and breakfast.
URL:https://www.stjohnsjackson.org/event/mens-breakfast-study-group-37-2/2026-12-10/
LOCATION:The Wort Hotel
ATTACH;FMTTYPE=image/jpeg:https://www.stjohnsjackson.org/wp-content/uploads/2025/06/MensBflast2-scaled.jpg
END:VEVENT
BEGIN:VEVENT
DTSTART;TZID=America/Denver:20261217T071500
DTEND;TZID=America/Denver:20261217T084500
DTSTAMP:20260425T044228
CREATED:20251103T195327Z
LAST-MODIFIED:20251103T195327Z
UID:10001436-1797491700-1797497100@www.stjohnsjackson.org
SUMMARY:Men's Breakfast Study Group
DESCRIPTION:All men of the parish are invited to join together for discussion\, fellowship and breakfast.
URL:https://www.stjohnsjackson.org/event/mens-breakfast-study-group-37-2/2026-12-17/
LOCATION:The Wort Hotel
ATTACH;FMTTYPE=image/jpeg:https://www.stjohnsjackson.org/wp-content/uploads/2025/06/MensBflast2-scaled.jpg
END:VEVENT
BEGIN:VEVENT
DTSTART;TZID=America/Denver:20261224T071500
DTEND;TZID=America/Denver:20261224T084500
DTSTAMP:20260425T044228
CREATED:20251103T195327Z
LAST-MODIFIED:20251103T195327Z
UID:10001437-1798096500-1798101900@www.stjohnsjackson.org
SUMMARY:Men's Breakfast Study Group
DESCRIPTION:All men of the parish are invited to join together for discussion\, fellowship and breakfast.
URL:https://www.stjohnsjackson.org/event/mens-breakfast-study-group-37-2/2026-12-24/
LOCATION:The Wort Hotel
ATTACH;FMTTYPE=image/jpeg:https://www.stjohnsjackson.org/wp-content/uploads/2025/06/MensBflast2-scaled.jpg
END:VEVENT
BEGIN:VEVENT
DTSTART;TZID=America/Denver:20261231T071500
DTEND;TZID=America/Denver:20261231T084500
DTSTAMP:20260425T044228
CREATED:20251103T195327Z
LAST-MODIFIED:20251103T195327Z
UID:10001438-1798701300-1798706700@www.stjohnsjackson.org
SUMMARY:Men's Breakfast Study Group
DESCRIPTION:All men of the parish are invited to join together for discussion\, fellowship and breakfast.
URL:https://www.stjohnsjackson.org/event/mens-breakfast-study-group-37-2/2026-12-31/
LOCATION:The Wort Hotel
ATTACH;FMTTYPE=image/jpeg:https://www.stjohnsjackson.org/wp-content/uploads/2025/06/MensBflast2-scaled.jpg
END:VEVENT
BEGIN:VEVENT
DTSTART;TZID=America/Denver:20270107T071500
DTEND;TZID=America/Denver:20270107T084500
DTSTAMP:20260425T044228
CREATED:20251103T195327Z
LAST-MODIFIED:20251103T195327Z
UID:10001439-1799306100-1799311500@www.stjohnsjackson.org
SUMMARY:Men's Breakfast Study Group
DESCRIPTION:All men of the parish are invited to join together for discussion\, fellowship and breakfast.
URL:https://www.stjohnsjackson.org/event/mens-breakfast-study-group-37-2/2027-01-07/
LOCATION:The Wort Hotel
ATTACH;FMTTYPE=image/jpeg:https://www.stjohnsjackson.org/wp-content/uploads/2025/06/MensBflast2-scaled.jpg
END:VEVENT
BEGIN:VEVENT
DTSTART;TZID=America/Denver:20270114T071500
DTEND;TZID=America/Denver:20270114T084500
DTSTAMP:20260425T044228
CREATED:20251103T195327Z
LAST-MODIFIED:20251103T195327Z
UID:10001440-1799910900-1799916300@www.stjohnsjackson.org
SUMMARY:Men's Breakfast Study Group
DESCRIPTION:All men of the parish are invited to join together for discussion\, fellowship and breakfast.
URL:https://www.stjohnsjackson.org/event/mens-breakfast-study-group-37-2/2027-01-14/
LOCATION:The Wort Hotel
ATTACH;FMTTYPE=image/jpeg:https://www.stjohnsjackson.org/wp-content/uploads/2025/06/MensBflast2-scaled.jpg
END:VEVENT
BEGIN:VEVENT
DTSTART;TZID=America/Denver:20270121T071500
DTEND;TZID=America/Denver:20270121T084500
DTSTAMP:20260425T044228
CREATED:20251103T195327Z
LAST-MODIFIED:20251103T195327Z
UID:10001441-1800515700-1800521100@www.stjohnsjackson.org
SUMMARY:Men's Breakfast Study Group
DESCRIPTION:All men of the parish are invited to join together for discussion\, fellowship and breakfast.
URL:https://www.stjohnsjackson.org/event/mens-breakfast-study-group-37-2/2027-01-21/
LOCATION:The Wort Hotel
ATTACH;FMTTYPE=image/jpeg:https://www.stjohnsjackson.org/wp-content/uploads/2025/06/MensBflast2-scaled.jpg
END:VEVENT
BEGIN:VEVENT
DTSTART;TZID=America/Denver:20270128T071500
DTEND;TZID=America/Denver:20270128T084500
DTSTAMP:20260425T044228
CREATED:20251103T195327Z
LAST-MODIFIED:20251103T195327Z
UID:10001442-1801120500-1801125900@www.stjohnsjackson.org
SUMMARY:Men's Breakfast Study Group
DESCRIPTION:All men of the parish are invited to join together for discussion\, fellowship and breakfast.
URL:https://www.stjohnsjackson.org/event/mens-breakfast-study-group-37-2/2027-01-28/
LOCATION:The Wort Hotel
ATTACH;FMTTYPE=image/jpeg:https://www.stjohnsjackson.org/wp-content/uploads/2025/06/MensBflast2-scaled.jpg
END:VEVENT
BEGIN:VEVENT
DTSTART;TZID=America/Denver:20270204T071500
DTEND;TZID=America/Denver:20270204T084500
DTSTAMP:20260425T044228
CREATED:20251103T195327Z
LAST-MODIFIED:20251103T195327Z
UID:10001443-1801725300-1801730700@www.stjohnsjackson.org
SUMMARY:Men's Breakfast Study Group
DESCRIPTION:All men of the parish are invited to join together for discussion\, fellowship and breakfast.
URL:https://www.stjohnsjackson.org/event/mens-breakfast-study-group-37-2/2027-02-04/
LOCATION:The Wort Hotel
ATTACH;FMTTYPE=image/jpeg:https://www.stjohnsjackson.org/wp-content/uploads/2025/06/MensBflast2-scaled.jpg
END:VEVENT
BEGIN:VEVENT
DTSTART;TZID=America/Denver:20270211T071500
DTEND;TZID=America/Denver:20270211T084500
DTSTAMP:20260425T044228
CREATED:20251103T195327Z
LAST-MODIFIED:20251103T195327Z
UID:10001444-1802330100-1802335500@www.stjohnsjackson.org
SUMMARY:Men's Breakfast Study Group
DESCRIPTION:All men of the parish are invited to join together for discussion\, fellowship and breakfast.
URL:https://www.stjohnsjackson.org/event/mens-breakfast-study-group-37-2/2027-02-11/
LOCATION:The Wort Hotel
ATTACH;FMTTYPE=image/jpeg:https://www.stjohnsjackson.org/wp-content/uploads/2025/06/MensBflast2-scaled.jpg
END:VEVENT
END:VCALENDAR