BEGIN:VCALENDAR
VERSION:2.0
PRODID:-//St. John&#039;s Episcopal Church Jackson Hole, WY - ECPv6.15.20//NONSGML v1.0//EN
CALSCALE:GREGORIAN
METHOD:PUBLISH
X-ORIGINAL-URL:https://www.stjohnsjackson.org
X-WR-CALDESC:Events for St. John&#039;s Episcopal Church Jackson Hole, WY
REFRESH-INTERVAL;VALUE=DURATION:PT1H
X-Robots-Tag:noindex
X-PUBLISHED-TTL:PT1H
BEGIN:VTIMEZONE
TZID:America/Denver
BEGIN:DAYLIGHT
TZOFFSETFROM:-0700
TZOFFSETTO:-0600
TZNAME:MDT
DTSTART:20290311T090000
END:DAYLIGHT
BEGIN:STANDARD
TZOFFSETFROM:-0600
TZOFFSETTO:-0700
TZNAME:MST
DTSTART:20291104T080000
END:STANDARD
BEGIN:DAYLIGHT
TZOFFSETFROM:-0700
TZOFFSETTO:-0600
TZNAME:MDT
DTSTART:20300310T090000
END:DAYLIGHT
BEGIN:STANDARD
TZOFFSETFROM:-0600
TZOFFSETTO:-0700
TZNAME:MST
DTSTART:20301103T080000
END:STANDARD
BEGIN:DAYLIGHT
TZOFFSETFROM:-0700
TZOFFSETTO:-0600
TZNAME:MDT
DTSTART:20310309T090000
END:DAYLIGHT
BEGIN:STANDARD
TZOFFSETFROM:-0600
TZOFFSETTO:-0700
TZNAME:MST
DTSTART:20311102T080000
END:STANDARD
BEGIN:DAYLIGHT
TZOFFSETFROM:-0700
TZOFFSETTO:-0600
TZNAME:MDT
DTSTART:20320314T090000
END:DAYLIGHT
BEGIN:STANDARD
TZOFFSETFROM:-0600
TZOFFSETTO:-0700
TZNAME:MST
DTSTART:20321107T080000
END:STANDARD
END:VTIMEZONE
BEGIN:VEVENT
DTSTART;TZID=America/Denver:20301201T080000
DTEND;TZID=America/Denver:20301201T090000
DTSTAMP:20260423T133028
CREATED:20250626T123529Z
LAST-MODIFIED:20260121T165234Z
UID:10005103-1922342400-1922346000@www.stjohnsjackson.org
SUMMARY:Holy Communion
DESCRIPTION:Built in 1915\, the logs and stained glass chapel is listed on The National Register of Historic Places.
URL:https://www.stjohnsjackson.org/event/holy-communion-74/2030-12-01/
LOCATION:St. John’s Chapel \, St. John’s Chapel
ATTACH;FMTTYPE=image/jpeg:https://www.stjohnsjackson.org/wp-content/uploads/2024/07/cookbook-cover_334.jpg
END:VEVENT
BEGIN:VEVENT
DTSTART;TZID=America/Denver:20301208T080000
DTEND;TZID=America/Denver:20301208T090000
DTSTAMP:20260423T133028
CREATED:20250626T123529Z
LAST-MODIFIED:20260121T165234Z
UID:10005104-1922947200-1922950800@www.stjohnsjackson.org
SUMMARY:Holy Communion
DESCRIPTION:Built in 1915\, the logs and stained glass chapel is listed on The National Register of Historic Places.
URL:https://www.stjohnsjackson.org/event/holy-communion-74/2030-12-08/
LOCATION:St. John’s Chapel \, St. John’s Chapel
ATTACH;FMTTYPE=image/jpeg:https://www.stjohnsjackson.org/wp-content/uploads/2024/07/cookbook-cover_334.jpg
END:VEVENT
BEGIN:VEVENT
DTSTART;TZID=America/Denver:20301215T080000
DTEND;TZID=America/Denver:20301215T090000
DTSTAMP:20260423T133028
CREATED:20250626T123529Z
LAST-MODIFIED:20260121T165234Z
UID:10005105-1923552000-1923555600@www.stjohnsjackson.org
SUMMARY:Holy Communion
DESCRIPTION:Built in 1915\, the logs and stained glass chapel is listed on The National Register of Historic Places.
URL:https://www.stjohnsjackson.org/event/holy-communion-74/2030-12-15/
LOCATION:St. John’s Chapel \, St. John’s Chapel
ATTACH;FMTTYPE=image/jpeg:https://www.stjohnsjackson.org/wp-content/uploads/2024/07/cookbook-cover_334.jpg
END:VEVENT
BEGIN:VEVENT
DTSTART;TZID=America/Denver:20301222T080000
DTEND;TZID=America/Denver:20301222T090000
DTSTAMP:20260423T133028
CREATED:20250626T123529Z
LAST-MODIFIED:20260121T165234Z
UID:10005106-1924156800-1924160400@www.stjohnsjackson.org
SUMMARY:Holy Communion
DESCRIPTION:Built in 1915\, the logs and stained glass chapel is listed on The National Register of Historic Places.
URL:https://www.stjohnsjackson.org/event/holy-communion-74/2030-12-22/
LOCATION:St. John’s Chapel \, St. John’s Chapel
ATTACH;FMTTYPE=image/jpeg:https://www.stjohnsjackson.org/wp-content/uploads/2024/07/cookbook-cover_334.jpg
END:VEVENT
BEGIN:VEVENT
DTSTART;TZID=America/Denver:20301229T080000
DTEND;TZID=America/Denver:20301229T090000
DTSTAMP:20260423T133028
CREATED:20250626T123529Z
LAST-MODIFIED:20260121T165234Z
UID:10005107-1924761600-1924765200@www.stjohnsjackson.org
SUMMARY:Holy Communion
DESCRIPTION:Built in 1915\, the logs and stained glass chapel is listed on The National Register of Historic Places.
URL:https://www.stjohnsjackson.org/event/holy-communion-74/2030-12-29/
LOCATION:St. John’s Chapel \, St. John’s Chapel
ATTACH;FMTTYPE=image/jpeg:https://www.stjohnsjackson.org/wp-content/uploads/2024/07/cookbook-cover_334.jpg
END:VEVENT
BEGIN:VEVENT
DTSTART;TZID=America/Denver:20310105T080000
DTEND;TZID=America/Denver:20310105T090000
DTSTAMP:20260423T133028
CREATED:20250626T123529Z
LAST-MODIFIED:20260121T165234Z
UID:10005108-1925366400-1925370000@www.stjohnsjackson.org
SUMMARY:Holy Communion
DESCRIPTION:Built in 1915\, the logs and stained glass chapel is listed on The National Register of Historic Places.
URL:https://www.stjohnsjackson.org/event/holy-communion-74/2031-01-05/
LOCATION:St. John’s Chapel \, St. John’s Chapel
ATTACH;FMTTYPE=image/jpeg:https://www.stjohnsjackson.org/wp-content/uploads/2024/07/cookbook-cover_334.jpg
END:VEVENT
BEGIN:VEVENT
DTSTART;TZID=America/Denver:20310112T080000
DTEND;TZID=America/Denver:20310112T090000
DTSTAMP:20260423T133028
CREATED:20250626T123529Z
LAST-MODIFIED:20260121T165234Z
UID:10005109-1925971200-1925974800@www.stjohnsjackson.org
SUMMARY:Holy Communion
DESCRIPTION:Built in 1915\, the logs and stained glass chapel is listed on The National Register of Historic Places.
URL:https://www.stjohnsjackson.org/event/holy-communion-74/2031-01-12/
LOCATION:St. John’s Chapel \, St. John’s Chapel
ATTACH;FMTTYPE=image/jpeg:https://www.stjohnsjackson.org/wp-content/uploads/2024/07/cookbook-cover_334.jpg
END:VEVENT
BEGIN:VEVENT
DTSTART;TZID=America/Denver:20310119T080000
DTEND;TZID=America/Denver:20310119T090000
DTSTAMP:20260423T133028
CREATED:20250626T123529Z
LAST-MODIFIED:20260121T165234Z
UID:10005110-1926576000-1926579600@www.stjohnsjackson.org
SUMMARY:Holy Communion
DESCRIPTION:Built in 1915\, the logs and stained glass chapel is listed on The National Register of Historic Places.
URL:https://www.stjohnsjackson.org/event/holy-communion-74/2031-01-19/
LOCATION:St. John’s Chapel \, St. John’s Chapel
ATTACH;FMTTYPE=image/jpeg:https://www.stjohnsjackson.org/wp-content/uploads/2024/07/cookbook-cover_334.jpg
END:VEVENT
END:VCALENDAR