BEGIN:VCALENDAR
VERSION:2.0
PRODID:-//St. John&#039;s Episcopal Church Jackson Hole, WY - ECPv6.15.20//NONSGML v1.0//EN
CALSCALE:GREGORIAN
METHOD:PUBLISH
X-WR-CALNAME:St. John&#039;s Episcopal Church Jackson Hole, WY
X-ORIGINAL-URL:https://www.stjohnsjackson.org
X-WR-CALDESC:Events for St. John&#039;s Episcopal Church Jackson Hole, WY
REFRESH-INTERVAL;VALUE=DURATION:PT1H
X-Robots-Tag:noindex
X-PUBLISHED-TTL:PT1H
BEGIN:VTIMEZONE
TZID:America/Denver
BEGIN:DAYLIGHT
TZOFFSETFROM:-0700
TZOFFSETTO:-0600
TZNAME:MDT
DTSTART:20290311T090000
END:DAYLIGHT
BEGIN:STANDARD
TZOFFSETFROM:-0600
TZOFFSETTO:-0700
TZNAME:MST
DTSTART:20291104T080000
END:STANDARD
BEGIN:DAYLIGHT
TZOFFSETFROM:-0700
TZOFFSETTO:-0600
TZNAME:MDT
DTSTART:20300310T090000
END:DAYLIGHT
BEGIN:STANDARD
TZOFFSETFROM:-0600
TZOFFSETTO:-0700
TZNAME:MST
DTSTART:20301103T080000
END:STANDARD
BEGIN:DAYLIGHT
TZOFFSETFROM:-0700
TZOFFSETTO:-0600
TZNAME:MDT
DTSTART:20310309T090000
END:DAYLIGHT
BEGIN:STANDARD
TZOFFSETFROM:-0600
TZOFFSETTO:-0700
TZNAME:MST
DTSTART:20311102T080000
END:STANDARD
BEGIN:DAYLIGHT
TZOFFSETFROM:-0700
TZOFFSETTO:-0600
TZNAME:MDT
DTSTART:20320314T090000
END:DAYLIGHT
BEGIN:STANDARD
TZOFFSETFROM:-0600
TZOFFSETTO:-0700
TZNAME:MST
DTSTART:20321107T080000
END:STANDARD
END:VTIMEZONE
BEGIN:VEVENT
DTSTART;TZID=America/Denver:20300908T080000
DTEND;TZID=America/Denver:20300908T090000
DTSTAMP:20260423T121549
CREATED:20250626T123529Z
LAST-MODIFIED:20260121T165234Z
UID:10004160-1915084800-1915088400@www.stjohnsjackson.org
SUMMARY:Holy Communion
DESCRIPTION:Built in 1915\, the logs and stained glass chapel is listed on The National Register of Historic Places.
URL:https://www.stjohnsjackson.org/event/holy-communion-74/2030-09-08/
LOCATION:St. John’s Chapel \, St. John’s Chapel
ATTACH;FMTTYPE=image/jpeg:https://www.stjohnsjackson.org/wp-content/uploads/2024/07/cookbook-cover_334.jpg
END:VEVENT
BEGIN:VEVENT
DTSTART;TZID=America/Denver:20300915T080000
DTEND;TZID=America/Denver:20300915T090000
DTSTAMP:20260423T121549
CREATED:20250626T123529Z
LAST-MODIFIED:20260121T165234Z
UID:10004161-1915689600-1915693200@www.stjohnsjackson.org
SUMMARY:Holy Communion
DESCRIPTION:Built in 1915\, the logs and stained glass chapel is listed on The National Register of Historic Places.
URL:https://www.stjohnsjackson.org/event/holy-communion-74/2030-09-15/
LOCATION:St. John’s Chapel \, St. John’s Chapel
ATTACH;FMTTYPE=image/jpeg:https://www.stjohnsjackson.org/wp-content/uploads/2024/07/cookbook-cover_334.jpg
END:VEVENT
BEGIN:VEVENT
DTSTART;TZID=America/Denver:20300922T080000
DTEND;TZID=America/Denver:20300922T090000
DTSTAMP:20260423T121549
CREATED:20250626T123529Z
LAST-MODIFIED:20260121T165234Z
UID:10004162-1916294400-1916298000@www.stjohnsjackson.org
SUMMARY:Holy Communion
DESCRIPTION:Built in 1915\, the logs and stained glass chapel is listed on The National Register of Historic Places.
URL:https://www.stjohnsjackson.org/event/holy-communion-74/2030-09-22/
LOCATION:St. John’s Chapel \, St. John’s Chapel
ATTACH;FMTTYPE=image/jpeg:https://www.stjohnsjackson.org/wp-content/uploads/2024/07/cookbook-cover_334.jpg
END:VEVENT
BEGIN:VEVENT
DTSTART;TZID=America/Denver:20300929T080000
DTEND;TZID=America/Denver:20300929T090000
DTSTAMP:20260423T121549
CREATED:20250626T123529Z
LAST-MODIFIED:20260121T165234Z
UID:10004163-1916899200-1916902800@www.stjohnsjackson.org
SUMMARY:Holy Communion
DESCRIPTION:Built in 1915\, the logs and stained glass chapel is listed on The National Register of Historic Places.
URL:https://www.stjohnsjackson.org/event/holy-communion-74/2030-09-29/
LOCATION:St. John’s Chapel \, St. John’s Chapel
ATTACH;FMTTYPE=image/jpeg:https://www.stjohnsjackson.org/wp-content/uploads/2024/07/cookbook-cover_334.jpg
END:VEVENT
BEGIN:VEVENT
DTSTART;TZID=America/Denver:20301006T080000
DTEND;TZID=America/Denver:20301006T090000
DTSTAMP:20260423T121549
CREATED:20250626T123529Z
LAST-MODIFIED:20260121T165234Z
UID:10004164-1917504000-1917507600@www.stjohnsjackson.org
SUMMARY:Holy Communion
DESCRIPTION:Built in 1915\, the logs and stained glass chapel is listed on The National Register of Historic Places.
URL:https://www.stjohnsjackson.org/event/holy-communion-74/2030-10-06/
LOCATION:St. John’s Chapel \, St. John’s Chapel
ATTACH;FMTTYPE=image/jpeg:https://www.stjohnsjackson.org/wp-content/uploads/2024/07/cookbook-cover_334.jpg
END:VEVENT
BEGIN:VEVENT
DTSTART;TZID=America/Denver:20301013T080000
DTEND;TZID=America/Denver:20301013T090000
DTSTAMP:20260423T121549
CREATED:20250626T123529Z
LAST-MODIFIED:20260121T165234Z
UID:10004165-1918108800-1918112400@www.stjohnsjackson.org
SUMMARY:Holy Communion
DESCRIPTION:Built in 1915\, the logs and stained glass chapel is listed on The National Register of Historic Places.
URL:https://www.stjohnsjackson.org/event/holy-communion-74/2030-10-13/
LOCATION:St. John’s Chapel \, St. John’s Chapel
ATTACH;FMTTYPE=image/jpeg:https://www.stjohnsjackson.org/wp-content/uploads/2024/07/cookbook-cover_334.jpg
END:VEVENT
BEGIN:VEVENT
DTSTART;TZID=America/Denver:20301020T080000
DTEND;TZID=America/Denver:20301020T090000
DTSTAMP:20260423T121549
CREATED:20250626T123529Z
LAST-MODIFIED:20260121T165234Z
UID:10004166-1918713600-1918717200@www.stjohnsjackson.org
SUMMARY:Holy Communion
DESCRIPTION:Built in 1915\, the logs and stained glass chapel is listed on The National Register of Historic Places.
URL:https://www.stjohnsjackson.org/event/holy-communion-74/2030-10-20/
LOCATION:St. John’s Chapel \, St. John’s Chapel
ATTACH;FMTTYPE=image/jpeg:https://www.stjohnsjackson.org/wp-content/uploads/2024/07/cookbook-cover_334.jpg
END:VEVENT
BEGIN:VEVENT
DTSTART;TZID=America/Denver:20301027T080000
DTEND;TZID=America/Denver:20301027T090000
DTSTAMP:20260423T121549
CREATED:20250626T123529Z
LAST-MODIFIED:20260121T165234Z
UID:10005098-1919318400-1919322000@www.stjohnsjackson.org
SUMMARY:Holy Communion
DESCRIPTION:Built in 1915\, the logs and stained glass chapel is listed on The National Register of Historic Places.
URL:https://www.stjohnsjackson.org/event/holy-communion-74/2030-10-27/
LOCATION:St. John’s Chapel \, St. John’s Chapel
ATTACH;FMTTYPE=image/jpeg:https://www.stjohnsjackson.org/wp-content/uploads/2024/07/cookbook-cover_334.jpg
END:VEVENT
BEGIN:VEVENT
DTSTART;TZID=America/Denver:20301103T080000
DTEND;TZID=America/Denver:20301103T090000
DTSTAMP:20260423T121549
CREATED:20250626T123529Z
LAST-MODIFIED:20260121T165234Z
UID:10005099-1919923200-1919926800@www.stjohnsjackson.org
SUMMARY:Holy Communion
DESCRIPTION:Built in 1915\, the logs and stained glass chapel is listed on The National Register of Historic Places.
URL:https://www.stjohnsjackson.org/event/holy-communion-74/2030-11-03/
LOCATION:St. John’s Chapel \, St. John’s Chapel
ATTACH;FMTTYPE=image/jpeg:https://www.stjohnsjackson.org/wp-content/uploads/2024/07/cookbook-cover_334.jpg
END:VEVENT
BEGIN:VEVENT
DTSTART;TZID=America/Denver:20301110T080000
DTEND;TZID=America/Denver:20301110T090000
DTSTAMP:20260423T121549
CREATED:20250626T123529Z
LAST-MODIFIED:20260121T165234Z
UID:10005100-1920528000-1920531600@www.stjohnsjackson.org
SUMMARY:Holy Communion
DESCRIPTION:Built in 1915\, the logs and stained glass chapel is listed on The National Register of Historic Places.
URL:https://www.stjohnsjackson.org/event/holy-communion-74/2030-11-10/
LOCATION:St. John’s Chapel \, St. John’s Chapel
ATTACH;FMTTYPE=image/jpeg:https://www.stjohnsjackson.org/wp-content/uploads/2024/07/cookbook-cover_334.jpg
END:VEVENT
BEGIN:VEVENT
DTSTART;TZID=America/Denver:20301117T080000
DTEND;TZID=America/Denver:20301117T090000
DTSTAMP:20260423T121549
CREATED:20250626T123529Z
LAST-MODIFIED:20260121T165234Z
UID:10005101-1921132800-1921136400@www.stjohnsjackson.org
SUMMARY:Holy Communion
DESCRIPTION:Built in 1915\, the logs and stained glass chapel is listed on The National Register of Historic Places.
URL:https://www.stjohnsjackson.org/event/holy-communion-74/2030-11-17/
LOCATION:St. John’s Chapel \, St. John’s Chapel
ATTACH;FMTTYPE=image/jpeg:https://www.stjohnsjackson.org/wp-content/uploads/2024/07/cookbook-cover_334.jpg
END:VEVENT
BEGIN:VEVENT
DTSTART;TZID=America/Denver:20301124T080000
DTEND;TZID=America/Denver:20301124T090000
DTSTAMP:20260423T121549
CREATED:20250626T123529Z
LAST-MODIFIED:20260121T165234Z
UID:10005102-1921737600-1921741200@www.stjohnsjackson.org
SUMMARY:Holy Communion
DESCRIPTION:Built in 1915\, the logs and stained glass chapel is listed on The National Register of Historic Places.
URL:https://www.stjohnsjackson.org/event/holy-communion-74/2030-11-24/
LOCATION:St. John’s Chapel \, St. John’s Chapel
ATTACH;FMTTYPE=image/jpeg:https://www.stjohnsjackson.org/wp-content/uploads/2024/07/cookbook-cover_334.jpg
END:VEVENT
BEGIN:VEVENT
DTSTART;TZID=America/Denver:20301201T080000
DTEND;TZID=America/Denver:20301201T090000
DTSTAMP:20260423T121549
CREATED:20250626T123529Z
LAST-MODIFIED:20260121T165234Z
UID:10005103-1922342400-1922346000@www.stjohnsjackson.org
SUMMARY:Holy Communion
DESCRIPTION:Built in 1915\, the logs and stained glass chapel is listed on The National Register of Historic Places.
URL:https://www.stjohnsjackson.org/event/holy-communion-74/2030-12-01/
LOCATION:St. John’s Chapel \, St. John’s Chapel
ATTACH;FMTTYPE=image/jpeg:https://www.stjohnsjackson.org/wp-content/uploads/2024/07/cookbook-cover_334.jpg
END:VEVENT
BEGIN:VEVENT
DTSTART;TZID=America/Denver:20301208T080000
DTEND;TZID=America/Denver:20301208T090000
DTSTAMP:20260423T121549
CREATED:20250626T123529Z
LAST-MODIFIED:20260121T165234Z
UID:10005104-1922947200-1922950800@www.stjohnsjackson.org
SUMMARY:Holy Communion
DESCRIPTION:Built in 1915\, the logs and stained glass chapel is listed on The National Register of Historic Places.
URL:https://www.stjohnsjackson.org/event/holy-communion-74/2030-12-08/
LOCATION:St. John’s Chapel \, St. John’s Chapel
ATTACH;FMTTYPE=image/jpeg:https://www.stjohnsjackson.org/wp-content/uploads/2024/07/cookbook-cover_334.jpg
END:VEVENT
BEGIN:VEVENT
DTSTART;TZID=America/Denver:20301215T080000
DTEND;TZID=America/Denver:20301215T090000
DTSTAMP:20260423T121549
CREATED:20250626T123529Z
LAST-MODIFIED:20260121T165234Z
UID:10005105-1923552000-1923555600@www.stjohnsjackson.org
SUMMARY:Holy Communion
DESCRIPTION:Built in 1915\, the logs and stained glass chapel is listed on The National Register of Historic Places.
URL:https://www.stjohnsjackson.org/event/holy-communion-74/2030-12-15/
LOCATION:St. John’s Chapel \, St. John’s Chapel
ATTACH;FMTTYPE=image/jpeg:https://www.stjohnsjackson.org/wp-content/uploads/2024/07/cookbook-cover_334.jpg
END:VEVENT
BEGIN:VEVENT
DTSTART;TZID=America/Denver:20301222T080000
DTEND;TZID=America/Denver:20301222T090000
DTSTAMP:20260423T121549
CREATED:20250626T123529Z
LAST-MODIFIED:20260121T165234Z
UID:10005106-1924156800-1924160400@www.stjohnsjackson.org
SUMMARY:Holy Communion
DESCRIPTION:Built in 1915\, the logs and stained glass chapel is listed on The National Register of Historic Places.
URL:https://www.stjohnsjackson.org/event/holy-communion-74/2030-12-22/
LOCATION:St. John’s Chapel \, St. John’s Chapel
ATTACH;FMTTYPE=image/jpeg:https://www.stjohnsjackson.org/wp-content/uploads/2024/07/cookbook-cover_334.jpg
END:VEVENT
BEGIN:VEVENT
DTSTART;TZID=America/Denver:20301229T080000
DTEND;TZID=America/Denver:20301229T090000
DTSTAMP:20260423T121549
CREATED:20250626T123529Z
LAST-MODIFIED:20260121T165234Z
UID:10005107-1924761600-1924765200@www.stjohnsjackson.org
SUMMARY:Holy Communion
DESCRIPTION:Built in 1915\, the logs and stained glass chapel is listed on The National Register of Historic Places.
URL:https://www.stjohnsjackson.org/event/holy-communion-74/2030-12-29/
LOCATION:St. John’s Chapel \, St. John’s Chapel
ATTACH;FMTTYPE=image/jpeg:https://www.stjohnsjackson.org/wp-content/uploads/2024/07/cookbook-cover_334.jpg
END:VEVENT
BEGIN:VEVENT
DTSTART;TZID=America/Denver:20310105T080000
DTEND;TZID=America/Denver:20310105T090000
DTSTAMP:20260423T121549
CREATED:20250626T123529Z
LAST-MODIFIED:20260121T165234Z
UID:10005108-1925366400-1925370000@www.stjohnsjackson.org
SUMMARY:Holy Communion
DESCRIPTION:Built in 1915\, the logs and stained glass chapel is listed on The National Register of Historic Places.
URL:https://www.stjohnsjackson.org/event/holy-communion-74/2031-01-05/
LOCATION:St. John’s Chapel \, St. John’s Chapel
ATTACH;FMTTYPE=image/jpeg:https://www.stjohnsjackson.org/wp-content/uploads/2024/07/cookbook-cover_334.jpg
END:VEVENT
BEGIN:VEVENT
DTSTART;TZID=America/Denver:20310112T080000
DTEND;TZID=America/Denver:20310112T090000
DTSTAMP:20260423T121549
CREATED:20250626T123529Z
LAST-MODIFIED:20260121T165234Z
UID:10005109-1925971200-1925974800@www.stjohnsjackson.org
SUMMARY:Holy Communion
DESCRIPTION:Built in 1915\, the logs and stained glass chapel is listed on The National Register of Historic Places.
URL:https://www.stjohnsjackson.org/event/holy-communion-74/2031-01-12/
LOCATION:St. John’s Chapel \, St. John’s Chapel
ATTACH;FMTTYPE=image/jpeg:https://www.stjohnsjackson.org/wp-content/uploads/2024/07/cookbook-cover_334.jpg
END:VEVENT
BEGIN:VEVENT
DTSTART;TZID=America/Denver:20310119T080000
DTEND;TZID=America/Denver:20310119T090000
DTSTAMP:20260423T121549
CREATED:20250626T123529Z
LAST-MODIFIED:20260121T165234Z
UID:10005110-1926576000-1926579600@www.stjohnsjackson.org
SUMMARY:Holy Communion
DESCRIPTION:Built in 1915\, the logs and stained glass chapel is listed on The National Register of Historic Places.
URL:https://www.stjohnsjackson.org/event/holy-communion-74/2031-01-19/
LOCATION:St. John’s Chapel \, St. John’s Chapel
ATTACH;FMTTYPE=image/jpeg:https://www.stjohnsjackson.org/wp-content/uploads/2024/07/cookbook-cover_334.jpg
END:VEVENT
END:VCALENDAR