BEGIN:VCALENDAR
VERSION:2.0
PRODID:-//St. John&#039;s Episcopal Church Jackson Hole, WY - ECPv6.15.20//NONSGML v1.0//EN
CALSCALE:GREGORIAN
METHOD:PUBLISH
X-WR-CALNAME:St. John&#039;s Episcopal Church Jackson Hole, WY
X-ORIGINAL-URL:https://www.stjohnsjackson.org
X-WR-CALDESC:Events for St. John&#039;s Episcopal Church Jackson Hole, WY
REFRESH-INTERVAL;VALUE=DURATION:PT1H
X-Robots-Tag:noindex
X-PUBLISHED-TTL:PT1H
BEGIN:VTIMEZONE
TZID:America/Denver
BEGIN:DAYLIGHT
TZOFFSETFROM:-0700
TZOFFSETTO:-0600
TZNAME:MDT
DTSTART:20290311T090000
END:DAYLIGHT
BEGIN:STANDARD
TZOFFSETFROM:-0600
TZOFFSETTO:-0700
TZNAME:MST
DTSTART:20291104T080000
END:STANDARD
BEGIN:DAYLIGHT
TZOFFSETFROM:-0700
TZOFFSETTO:-0600
TZNAME:MDT
DTSTART:20300310T090000
END:DAYLIGHT
BEGIN:STANDARD
TZOFFSETFROM:-0600
TZOFFSETTO:-0700
TZNAME:MST
DTSTART:20301103T080000
END:STANDARD
BEGIN:DAYLIGHT
TZOFFSETFROM:-0700
TZOFFSETTO:-0600
TZNAME:MDT
DTSTART:20310309T090000
END:DAYLIGHT
BEGIN:STANDARD
TZOFFSETFROM:-0600
TZOFFSETTO:-0700
TZNAME:MST
DTSTART:20311102T080000
END:STANDARD
END:VTIMEZONE
BEGIN:VEVENT
DTSTART;TZID=America/Denver:20300317T080000
DTEND;TZID=America/Denver:20300317T090000
DTSTAMP:20260419T081443
CREATED:20250626T123529Z
LAST-MODIFIED:20260121T165234Z
UID:10004135-1899964800-1899968400@www.stjohnsjackson.org
SUMMARY:Holy Communion
DESCRIPTION:Built in 1915\, the logs and stained glass chapel is listed on The National Register of Historic Places.
URL:https://www.stjohnsjackson.org/event/holy-communion-74/2030-03-17/
LOCATION:St. John’s Chapel \, St. John’s Chapel
ATTACH;FMTTYPE=image/jpeg:https://www.stjohnsjackson.org/wp-content/uploads/2024/07/cookbook-cover_334.jpg
END:VEVENT
BEGIN:VEVENT
DTSTART;TZID=America/Denver:20300324T080000
DTEND;TZID=America/Denver:20300324T090000
DTSTAMP:20260419T081443
CREATED:20250626T123529Z
LAST-MODIFIED:20260121T165234Z
UID:10004136-1900569600-1900573200@www.stjohnsjackson.org
SUMMARY:Holy Communion
DESCRIPTION:Built in 1915\, the logs and stained glass chapel is listed on The National Register of Historic Places.
URL:https://www.stjohnsjackson.org/event/holy-communion-74/2030-03-24/
LOCATION:St. John’s Chapel \, St. John’s Chapel
ATTACH;FMTTYPE=image/jpeg:https://www.stjohnsjackson.org/wp-content/uploads/2024/07/cookbook-cover_334.jpg
END:VEVENT
BEGIN:VEVENT
DTSTART;TZID=America/Denver:20300331T080000
DTEND;TZID=America/Denver:20300331T090000
DTSTAMP:20260419T081443
CREATED:20250626T123529Z
LAST-MODIFIED:20260121T165234Z
UID:10004137-1901174400-1901178000@www.stjohnsjackson.org
SUMMARY:Holy Communion
DESCRIPTION:Built in 1915\, the logs and stained glass chapel is listed on The National Register of Historic Places.
URL:https://www.stjohnsjackson.org/event/holy-communion-74/2030-03-31/
LOCATION:St. John’s Chapel \, St. John’s Chapel
ATTACH;FMTTYPE=image/jpeg:https://www.stjohnsjackson.org/wp-content/uploads/2024/07/cookbook-cover_334.jpg
END:VEVENT
BEGIN:VEVENT
DTSTART;TZID=America/Denver:20300407T080000
DTEND;TZID=America/Denver:20300407T090000
DTSTAMP:20260419T081443
CREATED:20250626T123529Z
LAST-MODIFIED:20260121T165234Z
UID:10004138-1901779200-1901782800@www.stjohnsjackson.org
SUMMARY:Holy Communion
DESCRIPTION:Built in 1915\, the logs and stained glass chapel is listed on The National Register of Historic Places.
URL:https://www.stjohnsjackson.org/event/holy-communion-74/2030-04-07/
LOCATION:St. John’s Chapel \, St. John’s Chapel
ATTACH;FMTTYPE=image/jpeg:https://www.stjohnsjackson.org/wp-content/uploads/2024/07/cookbook-cover_334.jpg
END:VEVENT
BEGIN:VEVENT
DTSTART;TZID=America/Denver:20300414T080000
DTEND;TZID=America/Denver:20300414T090000
DTSTAMP:20260419T081443
CREATED:20250626T123529Z
LAST-MODIFIED:20260121T165234Z
UID:10004139-1902384000-1902387600@www.stjohnsjackson.org
SUMMARY:Holy Communion
DESCRIPTION:Built in 1915\, the logs and stained glass chapel is listed on The National Register of Historic Places.
URL:https://www.stjohnsjackson.org/event/holy-communion-74/2030-04-14/
LOCATION:St. John’s Chapel \, St. John’s Chapel
ATTACH;FMTTYPE=image/jpeg:https://www.stjohnsjackson.org/wp-content/uploads/2024/07/cookbook-cover_334.jpg
END:VEVENT
BEGIN:VEVENT
DTSTART;TZID=America/Denver:20300421T080000
DTEND;TZID=America/Denver:20300421T090000
DTSTAMP:20260419T081443
CREATED:20250626T123529Z
LAST-MODIFIED:20260121T165234Z
UID:10004140-1902988800-1902992400@www.stjohnsjackson.org
SUMMARY:Holy Communion
DESCRIPTION:Built in 1915\, the logs and stained glass chapel is listed on The National Register of Historic Places.
URL:https://www.stjohnsjackson.org/event/holy-communion-74/2030-04-21/
LOCATION:St. John’s Chapel \, St. John’s Chapel
ATTACH;FMTTYPE=image/jpeg:https://www.stjohnsjackson.org/wp-content/uploads/2024/07/cookbook-cover_334.jpg
END:VEVENT
BEGIN:VEVENT
DTSTART;TZID=America/Denver:20300428T080000
DTEND;TZID=America/Denver:20300428T090000
DTSTAMP:20260419T081443
CREATED:20250626T123529Z
LAST-MODIFIED:20260121T165234Z
UID:10004141-1903593600-1903597200@www.stjohnsjackson.org
SUMMARY:Holy Communion
DESCRIPTION:Built in 1915\, the logs and stained glass chapel is listed on The National Register of Historic Places.
URL:https://www.stjohnsjackson.org/event/holy-communion-74/2030-04-28/
LOCATION:St. John’s Chapel \, St. John’s Chapel
ATTACH;FMTTYPE=image/jpeg:https://www.stjohnsjackson.org/wp-content/uploads/2024/07/cookbook-cover_334.jpg
END:VEVENT
BEGIN:VEVENT
DTSTART;TZID=America/Denver:20300505T080000
DTEND;TZID=America/Denver:20300505T090000
DTSTAMP:20260419T081443
CREATED:20250626T123529Z
LAST-MODIFIED:20260121T165234Z
UID:10004142-1904198400-1904202000@www.stjohnsjackson.org
SUMMARY:Holy Communion
DESCRIPTION:Built in 1915\, the logs and stained glass chapel is listed on The National Register of Historic Places.
URL:https://www.stjohnsjackson.org/event/holy-communion-74/2030-05-05/
LOCATION:St. John’s Chapel \, St. John’s Chapel
ATTACH;FMTTYPE=image/jpeg:https://www.stjohnsjackson.org/wp-content/uploads/2024/07/cookbook-cover_334.jpg
END:VEVENT
BEGIN:VEVENT
DTSTART;TZID=America/Denver:20300512T080000
DTEND;TZID=America/Denver:20300512T090000
DTSTAMP:20260419T081443
CREATED:20250626T123529Z
LAST-MODIFIED:20260121T165234Z
UID:10004143-1904803200-1904806800@www.stjohnsjackson.org
SUMMARY:Holy Communion
DESCRIPTION:Built in 1915\, the logs and stained glass chapel is listed on The National Register of Historic Places.
URL:https://www.stjohnsjackson.org/event/holy-communion-74/2030-05-12/
LOCATION:St. John’s Chapel \, St. John’s Chapel
ATTACH;FMTTYPE=image/jpeg:https://www.stjohnsjackson.org/wp-content/uploads/2024/07/cookbook-cover_334.jpg
END:VEVENT
BEGIN:VEVENT
DTSTART;TZID=America/Denver:20300519T080000
DTEND;TZID=America/Denver:20300519T090000
DTSTAMP:20260419T081443
CREATED:20250626T123529Z
LAST-MODIFIED:20260121T165234Z
UID:10004144-1905408000-1905411600@www.stjohnsjackson.org
SUMMARY:Holy Communion
DESCRIPTION:Built in 1915\, the logs and stained glass chapel is listed on The National Register of Historic Places.
URL:https://www.stjohnsjackson.org/event/holy-communion-74/2030-05-19/
LOCATION:St. John’s Chapel \, St. John’s Chapel
ATTACH;FMTTYPE=image/jpeg:https://www.stjohnsjackson.org/wp-content/uploads/2024/07/cookbook-cover_334.jpg
END:VEVENT
BEGIN:VEVENT
DTSTART;TZID=America/Denver:20300526T080000
DTEND;TZID=America/Denver:20300526T090000
DTSTAMP:20260419T081443
CREATED:20250626T123529Z
LAST-MODIFIED:20260121T165234Z
UID:10004145-1906012800-1906016400@www.stjohnsjackson.org
SUMMARY:Holy Communion
DESCRIPTION:Built in 1915\, the logs and stained glass chapel is listed on The National Register of Historic Places.
URL:https://www.stjohnsjackson.org/event/holy-communion-74/2030-05-26/
LOCATION:St. John’s Chapel \, St. John’s Chapel
ATTACH;FMTTYPE=image/jpeg:https://www.stjohnsjackson.org/wp-content/uploads/2024/07/cookbook-cover_334.jpg
END:VEVENT
BEGIN:VEVENT
DTSTART;TZID=America/Denver:20300602T080000
DTEND;TZID=America/Denver:20300602T090000
DTSTAMP:20260419T081443
CREATED:20250626T123529Z
LAST-MODIFIED:20260121T165234Z
UID:10004146-1906617600-1906621200@www.stjohnsjackson.org
SUMMARY:Holy Communion
DESCRIPTION:Built in 1915\, the logs and stained glass chapel is listed on The National Register of Historic Places.
URL:https://www.stjohnsjackson.org/event/holy-communion-74/2030-06-02/
LOCATION:St. John’s Chapel \, St. John’s Chapel
ATTACH;FMTTYPE=image/jpeg:https://www.stjohnsjackson.org/wp-content/uploads/2024/07/cookbook-cover_334.jpg
END:VEVENT
BEGIN:VEVENT
DTSTART;TZID=America/Denver:20300609T080000
DTEND;TZID=America/Denver:20300609T090000
DTSTAMP:20260419T081443
CREATED:20250626T123529Z
LAST-MODIFIED:20260121T165234Z
UID:10004147-1907222400-1907226000@www.stjohnsjackson.org
SUMMARY:Holy Communion
DESCRIPTION:Built in 1915\, the logs and stained glass chapel is listed on The National Register of Historic Places.
URL:https://www.stjohnsjackson.org/event/holy-communion-74/2030-06-09/
LOCATION:St. John’s Chapel \, St. John’s Chapel
ATTACH;FMTTYPE=image/jpeg:https://www.stjohnsjackson.org/wp-content/uploads/2024/07/cookbook-cover_334.jpg
END:VEVENT
BEGIN:VEVENT
DTSTART;TZID=America/Denver:20300616T080000
DTEND;TZID=America/Denver:20300616T090000
DTSTAMP:20260419T081443
CREATED:20250626T123529Z
LAST-MODIFIED:20260121T165234Z
UID:10004148-1907827200-1907830800@www.stjohnsjackson.org
SUMMARY:Holy Communion
DESCRIPTION:Built in 1915\, the logs and stained glass chapel is listed on The National Register of Historic Places.
URL:https://www.stjohnsjackson.org/event/holy-communion-74/2030-06-16/
LOCATION:St. John’s Chapel \, St. John’s Chapel
ATTACH;FMTTYPE=image/jpeg:https://www.stjohnsjackson.org/wp-content/uploads/2024/07/cookbook-cover_334.jpg
END:VEVENT
BEGIN:VEVENT
DTSTART;TZID=America/Denver:20300623T080000
DTEND;TZID=America/Denver:20300623T090000
DTSTAMP:20260419T081443
CREATED:20250626T123529Z
LAST-MODIFIED:20260121T165234Z
UID:10004149-1908432000-1908435600@www.stjohnsjackson.org
SUMMARY:Holy Communion
DESCRIPTION:Built in 1915\, the logs and stained glass chapel is listed on The National Register of Historic Places.
URL:https://www.stjohnsjackson.org/event/holy-communion-74/2030-06-23/
LOCATION:St. John’s Chapel \, St. John’s Chapel
ATTACH;FMTTYPE=image/jpeg:https://www.stjohnsjackson.org/wp-content/uploads/2024/07/cookbook-cover_334.jpg
END:VEVENT
BEGIN:VEVENT
DTSTART;TZID=America/Denver:20300630T080000
DTEND;TZID=America/Denver:20300630T090000
DTSTAMP:20260419T081443
CREATED:20250626T123529Z
LAST-MODIFIED:20260121T165234Z
UID:10004150-1909036800-1909040400@www.stjohnsjackson.org
SUMMARY:Holy Communion
DESCRIPTION:Built in 1915\, the logs and stained glass chapel is listed on The National Register of Historic Places.
URL:https://www.stjohnsjackson.org/event/holy-communion-74/2030-06-30/
LOCATION:St. John’s Chapel \, St. John’s Chapel
ATTACH;FMTTYPE=image/jpeg:https://www.stjohnsjackson.org/wp-content/uploads/2024/07/cookbook-cover_334.jpg
END:VEVENT
BEGIN:VEVENT
DTSTART;TZID=America/Denver:20300707T080000
DTEND;TZID=America/Denver:20300707T090000
DTSTAMP:20260419T081443
CREATED:20250626T123529Z
LAST-MODIFIED:20260121T165234Z
UID:10004151-1909641600-1909645200@www.stjohnsjackson.org
SUMMARY:Holy Communion
DESCRIPTION:Built in 1915\, the logs and stained glass chapel is listed on The National Register of Historic Places.
URL:https://www.stjohnsjackson.org/event/holy-communion-74/2030-07-07/
LOCATION:St. John’s Chapel \, St. John’s Chapel
ATTACH;FMTTYPE=image/jpeg:https://www.stjohnsjackson.org/wp-content/uploads/2024/07/cookbook-cover_334.jpg
END:VEVENT
BEGIN:VEVENT
DTSTART;TZID=America/Denver:20300714T080000
DTEND;TZID=America/Denver:20300714T090000
DTSTAMP:20260419T081443
CREATED:20250626T123529Z
LAST-MODIFIED:20260121T165234Z
UID:10004152-1910246400-1910250000@www.stjohnsjackson.org
SUMMARY:Holy Communion
DESCRIPTION:Built in 1915\, the logs and stained glass chapel is listed on The National Register of Historic Places.
URL:https://www.stjohnsjackson.org/event/holy-communion-74/2030-07-14/
LOCATION:St. John’s Chapel \, St. John’s Chapel
ATTACH;FMTTYPE=image/jpeg:https://www.stjohnsjackson.org/wp-content/uploads/2024/07/cookbook-cover_334.jpg
END:VEVENT
BEGIN:VEVENT
DTSTART;TZID=America/Denver:20300721T080000
DTEND;TZID=America/Denver:20300721T090000
DTSTAMP:20260419T081443
CREATED:20250626T123529Z
LAST-MODIFIED:20260121T165234Z
UID:10004153-1910851200-1910854800@www.stjohnsjackson.org
SUMMARY:Holy Communion
DESCRIPTION:Built in 1915\, the logs and stained glass chapel is listed on The National Register of Historic Places.
URL:https://www.stjohnsjackson.org/event/holy-communion-74/2030-07-21/
LOCATION:St. John’s Chapel \, St. John’s Chapel
ATTACH;FMTTYPE=image/jpeg:https://www.stjohnsjackson.org/wp-content/uploads/2024/07/cookbook-cover_334.jpg
END:VEVENT
BEGIN:VEVENT
DTSTART;TZID=America/Denver:20300728T080000
DTEND;TZID=America/Denver:20300728T090000
DTSTAMP:20260419T081443
CREATED:20250626T123529Z
LAST-MODIFIED:20260121T165234Z
UID:10004154-1911456000-1911459600@www.stjohnsjackson.org
SUMMARY:Holy Communion
DESCRIPTION:Built in 1915\, the logs and stained glass chapel is listed on The National Register of Historic Places.
URL:https://www.stjohnsjackson.org/event/holy-communion-74/2030-07-28/
LOCATION:St. John’s Chapel \, St. John’s Chapel
ATTACH;FMTTYPE=image/jpeg:https://www.stjohnsjackson.org/wp-content/uploads/2024/07/cookbook-cover_334.jpg
END:VEVENT
BEGIN:VEVENT
DTSTART;TZID=America/Denver:20300804T080000
DTEND;TZID=America/Denver:20300804T090000
DTSTAMP:20260419T081443
CREATED:20250626T123529Z
LAST-MODIFIED:20260121T165234Z
UID:10004155-1912060800-1912064400@www.stjohnsjackson.org
SUMMARY:Holy Communion
DESCRIPTION:Built in 1915\, the logs and stained glass chapel is listed on The National Register of Historic Places.
URL:https://www.stjohnsjackson.org/event/holy-communion-74/2030-08-04/
LOCATION:St. John’s Chapel \, St. John’s Chapel
ATTACH;FMTTYPE=image/jpeg:https://www.stjohnsjackson.org/wp-content/uploads/2024/07/cookbook-cover_334.jpg
END:VEVENT
BEGIN:VEVENT
DTSTART;TZID=America/Denver:20300811T080000
DTEND;TZID=America/Denver:20300811T090000
DTSTAMP:20260419T081443
CREATED:20250626T123529Z
LAST-MODIFIED:20260121T165234Z
UID:10004156-1912665600-1912669200@www.stjohnsjackson.org
SUMMARY:Holy Communion
DESCRIPTION:Built in 1915\, the logs and stained glass chapel is listed on The National Register of Historic Places.
URL:https://www.stjohnsjackson.org/event/holy-communion-74/2030-08-11/
LOCATION:St. John’s Chapel \, St. John’s Chapel
ATTACH;FMTTYPE=image/jpeg:https://www.stjohnsjackson.org/wp-content/uploads/2024/07/cookbook-cover_334.jpg
END:VEVENT
BEGIN:VEVENT
DTSTART;TZID=America/Denver:20300818T080000
DTEND;TZID=America/Denver:20300818T090000
DTSTAMP:20260419T081443
CREATED:20250626T123529Z
LAST-MODIFIED:20260121T165234Z
UID:10004157-1913270400-1913274000@www.stjohnsjackson.org
SUMMARY:Holy Communion
DESCRIPTION:Built in 1915\, the logs and stained glass chapel is listed on The National Register of Historic Places.
URL:https://www.stjohnsjackson.org/event/holy-communion-74/2030-08-18/
LOCATION:St. John’s Chapel \, St. John’s Chapel
ATTACH;FMTTYPE=image/jpeg:https://www.stjohnsjackson.org/wp-content/uploads/2024/07/cookbook-cover_334.jpg
END:VEVENT
BEGIN:VEVENT
DTSTART;TZID=America/Denver:20300825T080000
DTEND;TZID=America/Denver:20300825T090000
DTSTAMP:20260419T081443
CREATED:20250626T123529Z
LAST-MODIFIED:20260121T165234Z
UID:10004158-1913875200-1913878800@www.stjohnsjackson.org
SUMMARY:Holy Communion
DESCRIPTION:Built in 1915\, the logs and stained glass chapel is listed on The National Register of Historic Places.
URL:https://www.stjohnsjackson.org/event/holy-communion-74/2030-08-25/
LOCATION:St. John’s Chapel \, St. John’s Chapel
ATTACH;FMTTYPE=image/jpeg:https://www.stjohnsjackson.org/wp-content/uploads/2024/07/cookbook-cover_334.jpg
END:VEVENT
BEGIN:VEVENT
DTSTART;TZID=America/Denver:20300901T080000
DTEND;TZID=America/Denver:20300901T090000
DTSTAMP:20260419T081443
CREATED:20250626T123529Z
LAST-MODIFIED:20260121T165234Z
UID:10004159-1914480000-1914483600@www.stjohnsjackson.org
SUMMARY:Holy Communion
DESCRIPTION:Built in 1915\, the logs and stained glass chapel is listed on The National Register of Historic Places.
URL:https://www.stjohnsjackson.org/event/holy-communion-74/2030-09-01/
LOCATION:St. John’s Chapel \, St. John’s Chapel
ATTACH;FMTTYPE=image/jpeg:https://www.stjohnsjackson.org/wp-content/uploads/2024/07/cookbook-cover_334.jpg
END:VEVENT
BEGIN:VEVENT
DTSTART;TZID=America/Denver:20300908T080000
DTEND;TZID=America/Denver:20300908T090000
DTSTAMP:20260419T081443
CREATED:20250626T123529Z
LAST-MODIFIED:20260121T165234Z
UID:10004160-1915084800-1915088400@www.stjohnsjackson.org
SUMMARY:Holy Communion
DESCRIPTION:Built in 1915\, the logs and stained glass chapel is listed on The National Register of Historic Places.
URL:https://www.stjohnsjackson.org/event/holy-communion-74/2030-09-08/
LOCATION:St. John’s Chapel \, St. John’s Chapel
ATTACH;FMTTYPE=image/jpeg:https://www.stjohnsjackson.org/wp-content/uploads/2024/07/cookbook-cover_334.jpg
END:VEVENT
BEGIN:VEVENT
DTSTART;TZID=America/Denver:20300915T080000
DTEND;TZID=America/Denver:20300915T090000
DTSTAMP:20260419T081443
CREATED:20250626T123529Z
LAST-MODIFIED:20260121T165234Z
UID:10004161-1915689600-1915693200@www.stjohnsjackson.org
SUMMARY:Holy Communion
DESCRIPTION:Built in 1915\, the logs and stained glass chapel is listed on The National Register of Historic Places.
URL:https://www.stjohnsjackson.org/event/holy-communion-74/2030-09-15/
LOCATION:St. John’s Chapel \, St. John’s Chapel
ATTACH;FMTTYPE=image/jpeg:https://www.stjohnsjackson.org/wp-content/uploads/2024/07/cookbook-cover_334.jpg
END:VEVENT
BEGIN:VEVENT
DTSTART;TZID=America/Denver:20300922T080000
DTEND;TZID=America/Denver:20300922T090000
DTSTAMP:20260419T081443
CREATED:20250626T123529Z
LAST-MODIFIED:20260121T165234Z
UID:10004162-1916294400-1916298000@www.stjohnsjackson.org
SUMMARY:Holy Communion
DESCRIPTION:Built in 1915\, the logs and stained glass chapel is listed on The National Register of Historic Places.
URL:https://www.stjohnsjackson.org/event/holy-communion-74/2030-09-22/
LOCATION:St. John’s Chapel \, St. John’s Chapel
ATTACH;FMTTYPE=image/jpeg:https://www.stjohnsjackson.org/wp-content/uploads/2024/07/cookbook-cover_334.jpg
END:VEVENT
BEGIN:VEVENT
DTSTART;TZID=America/Denver:20300929T080000
DTEND;TZID=America/Denver:20300929T090000
DTSTAMP:20260419T081443
CREATED:20250626T123529Z
LAST-MODIFIED:20260121T165234Z
UID:10004163-1916899200-1916902800@www.stjohnsjackson.org
SUMMARY:Holy Communion
DESCRIPTION:Built in 1915\, the logs and stained glass chapel is listed on The National Register of Historic Places.
URL:https://www.stjohnsjackson.org/event/holy-communion-74/2030-09-29/
LOCATION:St. John’s Chapel \, St. John’s Chapel
ATTACH;FMTTYPE=image/jpeg:https://www.stjohnsjackson.org/wp-content/uploads/2024/07/cookbook-cover_334.jpg
END:VEVENT
BEGIN:VEVENT
DTSTART;TZID=America/Denver:20301006T080000
DTEND;TZID=America/Denver:20301006T090000
DTSTAMP:20260419T081443
CREATED:20250626T123529Z
LAST-MODIFIED:20260121T165234Z
UID:10004164-1917504000-1917507600@www.stjohnsjackson.org
SUMMARY:Holy Communion
DESCRIPTION:Built in 1915\, the logs and stained glass chapel is listed on The National Register of Historic Places.
URL:https://www.stjohnsjackson.org/event/holy-communion-74/2030-10-06/
LOCATION:St. John’s Chapel \, St. John’s Chapel
ATTACH;FMTTYPE=image/jpeg:https://www.stjohnsjackson.org/wp-content/uploads/2024/07/cookbook-cover_334.jpg
END:VEVENT
END:VCALENDAR