BEGIN:VCALENDAR
VERSION:2.0
PRODID:-//St. John&#039;s Episcopal Church Jackson Hole, WY - ECPv6.15.20//NONSGML v1.0//EN
CALSCALE:GREGORIAN
METHOD:PUBLISH
X-WR-CALNAME:St. John&#039;s Episcopal Church Jackson Hole, WY
X-ORIGINAL-URL:https://www.stjohnsjackson.org
X-WR-CALDESC:Events for St. John&#039;s Episcopal Church Jackson Hole, WY
REFRESH-INTERVAL;VALUE=DURATION:PT1H
X-Robots-Tag:noindex
X-PUBLISHED-TTL:PT1H
BEGIN:VTIMEZONE
TZID:America/Denver
BEGIN:DAYLIGHT
TZOFFSETFROM:-0700
TZOFFSETTO:-0600
TZNAME:MDT
DTSTART:20240310T090000
END:DAYLIGHT
BEGIN:STANDARD
TZOFFSETFROM:-0600
TZOFFSETTO:-0700
TZNAME:MST
DTSTART:20241103T080000
END:STANDARD
BEGIN:DAYLIGHT
TZOFFSETFROM:-0700
TZOFFSETTO:-0600
TZNAME:MDT
DTSTART:20250309T090000
END:DAYLIGHT
BEGIN:STANDARD
TZOFFSETFROM:-0600
TZOFFSETTO:-0700
TZNAME:MST
DTSTART:20251102T080000
END:STANDARD
BEGIN:DAYLIGHT
TZOFFSETFROM:-0700
TZOFFSETTO:-0600
TZNAME:MDT
DTSTART:20260308T090000
END:DAYLIGHT
BEGIN:STANDARD
TZOFFSETFROM:-0600
TZOFFSETTO:-0700
TZNAME:MST
DTSTART:20261101T080000
END:STANDARD
END:VTIMEZONE
BEGIN:VEVENT
DTSTART;TZID=America/Denver:20250608T140000
DTEND;TZID=America/Denver:20250608T163000
DTSTAMP:20260422T232137
CREATED:20250531T141904Z
LAST-MODIFIED:20250531T141904Z
UID:10000045-1749391200-1749400200@www.stjohnsjackson.org
SUMMARY:Petticoat Rules
DESCRIPTION:Enjoy 2:00 p.m. Matinee performance Petticoat Rules at the Pink Garter Theatre\, Doors open 1:30 p.m. \nThis is a lively musical comedy about Jackson Hole’s extraordinary past\, celebrating the historic election of the nation’s first all-female government in 1920\, presented by Tumbleweed Creative Arts\, music by Pam Drews Phillips.
URL:https://www.stjohnsjackson.org/event/petticoat-rules/
LOCATION:Pink Garter Theatre\, 2801 3 Creek Dr\, Jackson\, WY\, United States
GEO:43.440697;-110.821809
X-APPLE-STRUCTURED-LOCATION;VALUE=URI;X-ADDRESS=Pink Garter Theatre 2801 3 Creek Dr Jackson WY United States;X-APPLE-RADIUS=500;X-TITLE=2801 3 Creek Dr:geo:-110.821809,43.440697
END:VEVENT
END:VCALENDAR