BEGIN:VCALENDAR
VERSION:2.0
PRODID:-//St. John&#039;s Episcopal Church Jackson Hole, WY - ECPv6.15.20//NONSGML v1.0//EN
CALSCALE:GREGORIAN
METHOD:PUBLISH
X-WR-CALNAME:St. John&#039;s Episcopal Church Jackson Hole, WY
X-ORIGINAL-URL:https://www.stjohnsjackson.org
X-WR-CALDESC:Events for St. John&#039;s Episcopal Church Jackson Hole, WY
REFRESH-INTERVAL;VALUE=DURATION:PT1H
X-Robots-Tag:noindex
X-PUBLISHED-TTL:PT1H
BEGIN:VTIMEZONE
TZID:America/Denver
BEGIN:DAYLIGHT
TZOFFSETFROM:-0700
TZOFFSETTO:-0600
TZNAME:MDT
DTSTART:20240310T090000
END:DAYLIGHT
BEGIN:STANDARD
TZOFFSETFROM:-0600
TZOFFSETTO:-0700
TZNAME:MST
DTSTART:20241103T080000
END:STANDARD
BEGIN:DAYLIGHT
TZOFFSETFROM:-0700
TZOFFSETTO:-0600
TZNAME:MDT
DTSTART:20250309T090000
END:DAYLIGHT
BEGIN:STANDARD
TZOFFSETFROM:-0600
TZOFFSETTO:-0700
TZNAME:MST
DTSTART:20251102T080000
END:STANDARD
BEGIN:DAYLIGHT
TZOFFSETFROM:-0700
TZOFFSETTO:-0600
TZNAME:MDT
DTSTART:20260308T090000
END:DAYLIGHT
BEGIN:STANDARD
TZOFFSETFROM:-0600
TZOFFSETTO:-0700
TZNAME:MST
DTSTART:20261101T080000
END:STANDARD
END:VTIMEZONE
BEGIN:VEVENT
DTSTART;TZID=America/Denver:20250923T180000
DTEND;TZID=America/Denver:20250923T193000
DTSTAMP:20260423T110704
CREATED:20251023T154416Z
LAST-MODIFIED:20251103T195244Z
UID:10003383-1758650400-1758655800@www.stjohnsjackson.org
SUMMARY:St. John's Teen Book Club
DESCRIPTION:Parents and teen daughters are invited to join St. John’s Teen Book Club with local author\, Nanci Turner Steveson\, for a monthly book discussion and potluck in Hansen Hall.  \nWe explore upper middle grade and lower high school age-appropriate books focusing on books written by a diverse range of authors in contemporary fiction\, fantasy\, historical fiction\, graphic novels\, and non-fiction. This is a beautiful way to bond with your teens (or 7th grade and up) as they begin to move closer to adulthood. The group is from 6:00 p.m. to 7:30 p.m. on Tuesdays\, September 23\, October 14\, November 11 and December 9.
URL:https://www.stjohnsjackson.org/event/st-johns-teen-book-club/2025-09-23/
LOCATION:Hansen Hall
ATTACH;FMTTYPE=image/jpeg:https://www.stjohnsjackson.org/wp-content/uploads/2024/07/patrick-tomasso-oaqk7qqnh-c-unsplash-1_189.jpg
END:VEVENT
BEGIN:VEVENT
DTSTART;TZID=America/Denver:20250922T173000
DTEND;TZID=America/Denver:20250922T190000
DTSTAMP:20260423T110704
CREATED:20250531T141925Z
LAST-MODIFIED:20250828T215045Z
UID:10000299-1758562200-1758567600@www.stjohnsjackson.org
SUMMARY:Wild Earth Conversations - Cancelled
DESCRIPTION:Lovers of the earth\, unite and join us for Wild Earth Conversations. We meet on the fourth Monday of the month from 5:30 to 7:00 in Hansen Hall. We are using essays from Spiritual Ecology: The Cry of the Earth to spark discussion centered on this wild planet\, our island home. Contact Travis or Brian for more information and to receive a copy of the book.
URL:https://www.stjohnsjackson.org/event/wild-earth-conversations-4/
LOCATION:Hansen Hall
END:VEVENT
BEGIN:VEVENT
DTSTART;TZID=America/Denver:20250919T180000
DTEND;TZID=America/Denver:20250919T200000
DTSTAMP:20260423T110704
CREATED:20250531T141924Z
LAST-MODIFIED:20250531T141924Z
UID:10000291-1758304800-1758312000@www.stjohnsjackson.org
SUMMARY:Folk singing Group
DESCRIPTION:Join us for a night of singing\, guitar playing and fellowship. Bring your guitar\, ukuleles\, banjos\, harps or any instrument. All talent levels welcome! All our songs have easy arrangements. We can help you with chords if by chance a song has a funny one (like a G6).
URL:https://www.stjohnsjackson.org/event/folk-singing-group-4/
LOCATION:Hansen Hall
END:VEVENT
BEGIN:VEVENT
DTSTART;TZID=America/Denver:20250825T173000
DTEND;TZID=America/Denver:20250825T190000
DTSTAMP:20260423T110704
CREATED:20250531T141919Z
LAST-MODIFIED:20250813T185946Z
UID:10000233-1756143000-1756148400@www.stjohnsjackson.org
SUMMARY:Wild Earth Conversations - Cancelled
DESCRIPTION:Lovers of the earth\, unite and join us for Wild Earth Conversations. We meet on the fourth Monday of the month from 5:30 to 7:00 in Hansen Hall. We are using essays from Spiritual Ecology: The Cry of the Earth to spark discussion centered on this wild planet\, our island home. Contact Travis or Brian for more information and to receive a copy of the book.
URL:https://www.stjohnsjackson.org/event/wild-earth-conversations-3/
LOCATION:Hansen Hall
END:VEVENT
BEGIN:VEVENT
DTSTART;TZID=America/Denver:20250815T180000
DTEND;TZID=America/Denver:20250815T200000
DTSTAMP:20260423T110704
CREATED:20250531T141917Z
LAST-MODIFIED:20250531T141917Z
UID:10000207-1755280800-1755288000@www.stjohnsjackson.org
SUMMARY:Folk singing Group
DESCRIPTION:Join us for a night of singing\, guitar playing and fellowship. Bring your guitar\, ukuleles\, banjos\, harps or any instrument. All talent levels welcome! All our songs have easy arrangements. We can help you with chords if by chance a song has a funny one (like a G6).
URL:https://www.stjohnsjackson.org/event/folk-singing-group-3/
LOCATION:Hansen Hall
END:VEVENT
BEGIN:VEVENT
DTSTART;TZID=America/Denver:20250728T173000
DTEND;TZID=America/Denver:20250728T190000
DTSTAMP:20260423T110704
CREATED:20250531T141913Z
LAST-MODIFIED:20250531T141913Z
UID:10000168-1753723800-1753729200@www.stjohnsjackson.org
SUMMARY:Wild Earth Conversations
DESCRIPTION:Lovers of the earth\, unite and join us for Wild Earth Conversations. We meet on the fourth Monday of the month from 5:30 to 7:00 in Hansen Hall. We are using essays from Spiritual Ecology: The Cry of the Earth to spark discussion centered on this wild planet\, our island home. Contact Travis or Brian for more information and to receive a copy of the book.
URL:https://www.stjohnsjackson.org/event/wild-earth-conversations-2/
LOCATION:Hansen Hall
END:VEVENT
BEGIN:VEVENT
DTSTART;TZID=America/Denver:20250718T180000
DTEND;TZID=America/Denver:20250718T200000
DTSTAMP:20260423T110704
CREATED:20250531T141911Z
LAST-MODIFIED:20250531T141911Z
UID:10000143-1752861600-1752868800@www.stjohnsjackson.org
SUMMARY:Folk singing Group
DESCRIPTION:Join us for a night of singing\, guitar playing and fellowship. Bring your guitar\, ukuleles\, banjos\, harps or any instrument. All talent levels welcome! All our songs have easy arrangements. We can help you with chords if by chance a song has a funny one (like a G6).
URL:https://www.stjohnsjackson.org/event/folk-singing-group-2/
LOCATION:Hansen Hall
END:VEVENT
BEGIN:VEVENT
DTSTART;TZID=America/Denver:20250623T173000
DTEND;TZID=America/Denver:20250623T190000
DTSTAMP:20260423T110704
CREATED:20250531T141907Z
LAST-MODIFIED:20250531T141907Z
UID:10000082-1750699800-1750705200@www.stjohnsjackson.org
SUMMARY:Wild Earth Conversations
DESCRIPTION:Lovers of the earth\, unite and join us for Wild Earth Conversations. We meet on the fourth Monday of the month from 5:30 to 7:00 in Hansen Hall. We are using essays from Spiritual Ecology: The Cry of the Earth to spark discussion centered on this wild planet\, our island home. Contact Travis or Brian for more information and to receive a copy of the book.
URL:https://www.stjohnsjackson.org/event/wild-earth-conversations/
LOCATION:Hansen Hall
END:VEVENT
BEGIN:VEVENT
DTSTART;TZID=America/Denver:20250620T180000
DTEND;TZID=America/Denver:20250620T200000
DTSTAMP:20260423T110704
CREATED:20250531T141906Z
LAST-MODIFIED:20250531T141906Z
UID:10000072-1750442400-1750449600@www.stjohnsjackson.org
SUMMARY:Folk singing Group
DESCRIPTION:Join us for a night of singing\, guitar playing and fellowship. Bring your guitar\, ukuleles\, banjos\, harps or any instrument. All talent levels welcome! All our songs have easy arrangements. We can help you with chords if by chance a song has a funny one (like a G6).
URL:https://www.stjohnsjackson.org/event/folk-singing-group/
LOCATION:Hansen Hall
END:VEVENT
END:VCALENDAR