BEGIN:VCALENDAR
VERSION:2.0
PRODID:-//St. John&#039;s Episcopal Church Jackson Hole, WY - ECPv6.15.20//NONSGML v1.0//EN
CALSCALE:GREGORIAN
METHOD:PUBLISH
X-ORIGINAL-URL:https://www.stjohnsjackson.org
X-WR-CALDESC:Events for St. John&#039;s Episcopal Church Jackson Hole, WY
REFRESH-INTERVAL;VALUE=DURATION:PT1H
X-Robots-Tag:noindex
X-PUBLISHED-TTL:PT1H
BEGIN:VTIMEZONE
TZID:America/Denver
BEGIN:DAYLIGHT
TZOFFSETFROM:-0700
TZOFFSETTO:-0600
TZNAME:MDT
DTSTART:20250309T090000
END:DAYLIGHT
BEGIN:STANDARD
TZOFFSETFROM:-0600
TZOFFSETTO:-0700
TZNAME:MST
DTSTART:20251102T080000
END:STANDARD
BEGIN:DAYLIGHT
TZOFFSETFROM:-0700
TZOFFSETTO:-0600
TZNAME:MDT
DTSTART:20260308T090000
END:DAYLIGHT
BEGIN:STANDARD
TZOFFSETFROM:-0600
TZOFFSETTO:-0700
TZNAME:MST
DTSTART:20261101T080000
END:STANDARD
BEGIN:DAYLIGHT
TZOFFSETFROM:-0700
TZOFFSETTO:-0600
TZNAME:MDT
DTSTART:20270314T090000
END:DAYLIGHT
BEGIN:STANDARD
TZOFFSETFROM:-0600
TZOFFSETTO:-0700
TZNAME:MST
DTSTART:20271107T080000
END:STANDARD
END:VTIMEZONE
BEGIN:VEVENT
DTSTART;TZID=America/Denver:20260329T080000
DTEND;TZID=America/Denver:20260329T090000
DTSTAMP:20260423T063400
CREATED:20250626T123529Z
LAST-MODIFIED:20260121T165234Z
UID:10003928-1774771200-1774774800@www.stjohnsjackson.org
SUMMARY:Holy Communion
DESCRIPTION:Built in 1915\, the logs and stained glass chapel is listed on The National Register of Historic Places.
URL:https://www.stjohnsjackson.org/event/holy-communion-74/2026-03-29/
LOCATION:St. John’s Chapel \, St. John’s Chapel
ATTACH;FMTTYPE=image/jpeg:https://www.stjohnsjackson.org/wp-content/uploads/2024/07/cookbook-cover_334.jpg
END:VEVENT
BEGIN:VEVENT
DTSTART;TZID=America/Denver:20260329T090000
DTEND;TZID=America/Denver:20260329T094500
DTSTAMP:20260423T063400
CREATED:20260225T182654Z
LAST-MODIFIED:20260225T183141Z
UID:10005253-1774774800-1774777500@www.stjohnsjackson.org
SUMMARY:Lent Adult Formation
DESCRIPTION:Please join the clergy team for a special series of discussions on Sunday mornings at 9:00 in the Underground\, starting this week\, running through Palm Sunday. We will explore our Lenten theme “Jars of Clay” as we live our way into a holy Lent.
URL:https://www.stjohnsjackson.org/event/lent-adult-formation/2026-03-29/
LOCATION:Underground
ATTACH;FMTTYPE=image/jpeg:https://www.stjohnsjackson.org/wp-content/uploads/2026/02/IMG_8292.jpeg
END:VEVENT
BEGIN:VEVENT
DTSTART;TZID=America/Denver:20260329T100000
DTEND;TZID=America/Denver:20260329T110000
DTSTAMP:20260423T063400
CREATED:20250626T123529Z
LAST-MODIFIED:20260121T165126Z
UID:10004449-1774778400-1774782000@www.stjohnsjackson.org
SUMMARY:Holy Communion\, Livestreamed
DESCRIPTION:A traditional Eucharist service with singing\, praying (silent & aloud)\, lessons from the Bible – including a Gospel reading – a sermon\, Holy Communion\, and a blessing. The service is livestreamed as we come together to worship.
URL:https://www.stjohnsjackson.org/event/holy-communion-livestreamed-37/2026-03-29/
LOCATION:St. John’s Episcopal Church of Jackson Hole\, 170 S Glenwood St\, Jackson\, WY\, United States
GEO:43.477771;-110.763645
X-APPLE-STRUCTURED-LOCATION;VALUE=URI;X-ADDRESS=St. John’s Episcopal Church of Jackson Hole 170 S Glenwood St Jackson WY United States;X-APPLE-RADIUS=500;X-TITLE=170 S Glenwood St:geo:-110.763645,43.477771
END:VEVENT
BEGIN:VEVENT
DTSTART;TZID=America/Denver:20260329T110000
DTEND;TZID=America/Denver:20260329T120000
DTSTAMP:20260423T063400
CREATED:20250626T123531Z
LAST-MODIFIED:20251105T182425Z
UID:10003668-1774782000-1774785600@www.stjohnsjackson.org
SUMMARY:Coffee Hour
DESCRIPTION:Coffee Hour is a time of fellowship and socializing – a time to catch up with friends and acquaint yourself with new people of the congregation. At St. John’s\, we have a wonderful tradition of connection and hospitality and Coffee Hour is an integral part of that fellowship. \nSign up to host coffee hour!
URL:https://www.stjohnsjackson.org/event/coffee-hour-38/2026-03-29/
LOCATION:Hansen Hall
ATTACH;FMTTYPE=image/jpeg:https://www.stjohnsjackson.org/wp-content/uploads/2024/07/coffee-heart-image_548.jpg
END:VEVENT
END:VCALENDAR