BEGIN:VCALENDAR
VERSION:2.0
PRODID:-//St. John&#039;s Episcopal Church Jackson Hole, WY - ECPv6.15.20//NONSGML v1.0//EN
CALSCALE:GREGORIAN
METHOD:PUBLISH
X-WR-CALNAME:St. John&#039;s Episcopal Church Jackson Hole, WY
X-ORIGINAL-URL:https://www.stjohnsjackson.org
X-WR-CALDESC:Events for St. John&#039;s Episcopal Church Jackson Hole, WY
REFRESH-INTERVAL;VALUE=DURATION:PT1H
X-Robots-Tag:noindex
X-PUBLISHED-TTL:PT1H
BEGIN:VTIMEZONE
TZID:America/Denver
BEGIN:DAYLIGHT
TZOFFSETFROM:-0700
TZOFFSETTO:-0600
TZNAME:MDT
DTSTART:20240310T090000
END:DAYLIGHT
BEGIN:STANDARD
TZOFFSETFROM:-0600
TZOFFSETTO:-0700
TZNAME:MST
DTSTART:20241103T080000
END:STANDARD
BEGIN:DAYLIGHT
TZOFFSETFROM:-0700
TZOFFSETTO:-0600
TZNAME:MDT
DTSTART:20250309T090000
END:DAYLIGHT
BEGIN:STANDARD
TZOFFSETFROM:-0600
TZOFFSETTO:-0700
TZNAME:MST
DTSTART:20251102T080000
END:STANDARD
BEGIN:DAYLIGHT
TZOFFSETFROM:-0700
TZOFFSETTO:-0600
TZNAME:MDT
DTSTART:20260308T090000
END:DAYLIGHT
BEGIN:STANDARD
TZOFFSETFROM:-0600
TZOFFSETTO:-0700
TZNAME:MST
DTSTART:20261101T080000
END:STANDARD
END:VTIMEZONE
BEGIN:VEVENT
DTSTART;TZID=America/Denver:20251225T100000
DTEND;TZID=America/Denver:20251225T110000
DTSTAMP:20260422T162025
CREATED:20251103T194442Z
LAST-MODIFIED:20251103T194858Z
UID:10004812-1766656800-1766660400@www.stjohnsjackson.org
SUMMARY:The Feast of the Nativity
DESCRIPTION:A traditional Eucharist service with singing\, praying (silent & aloud)\, lessons from the Bible – including a Gospel reading – a sermon\, Holy Communion\, and a blessing.
URL:https://www.stjohnsjackson.org/event/the-feast-of-the-nativity/2025-12-25/
LOCATION:St. John’s Chapel
END:VEVENT
BEGIN:VEVENT
DTSTART;TZID=America/Denver:20251225T160000
DTEND;TZID=America/Denver:20251225T170000
DTSTAMP:20260422T162025
CREATED:20251104T232534Z
LAST-MODIFIED:20251104T232534Z
UID:10004899-1766678400-1766682000@www.stjohnsjackson.org
SUMMARY:Carols and Candlelight at The Chapel of the Transfiguration
DESCRIPTION:Join us for a holiday sing-along on Christmas Day with Ron Fabry\, our music director at the rustic Chapel of the Transfiguration in Grand Teton National Park.
URL:https://www.stjohnsjackson.org/event/carols-and-candlelight-at-the-chapel-of-the-transfiguration/2025-12-25/
ATTACH;FMTTYPE=image/jpeg:https://www.stjohnsjackson.org/wp-content/uploads/2024/07/chapel-light-painted_601.jpg
END:VEVENT
BEGIN:VEVENT
DTSTART;TZID=America/Denver:20251225T174500
DTEND;TZID=America/Denver:20251225T191500
DTSTAMP:20260422T162025
CREATED:20250626T123528Z
LAST-MODIFIED:20251022T222733Z
UID:10005265-1766684700-1766690100@www.stjohnsjackson.org
SUMMARY:Handbell Rehearsal
DESCRIPTION:Join our handbell choir. This is a great way to make a beautiful noise.
URL:https://www.stjohnsjackson.org/event/handbell-rehearsal-26/2025-12-25/
LOCATION:St. John’s Church
ATTACH;FMTTYPE=image/jpeg:https://www.stjohnsjackson.org/wp-content/uploads/2024/07/handbell-music_671.jpg
END:VEVENT
END:VCALENDAR