BEGIN:VCALENDAR
VERSION:2.0
PRODID:-//St. John&#039;s Episcopal Church Jackson Hole, WY - ECPv6.15.20//NONSGML v1.0//EN
CALSCALE:GREGORIAN
METHOD:PUBLISH
X-ORIGINAL-URL:https://www.stjohnsjackson.org
X-WR-CALDESC:Events for St. John&#039;s Episcopal Church Jackson Hole, WY
REFRESH-INTERVAL;VALUE=DURATION:PT1H
X-Robots-Tag:noindex
X-PUBLISHED-TTL:PT1H
BEGIN:VTIMEZONE
TZID:America/Denver
BEGIN:DAYLIGHT
TZOFFSETFROM:-0700
TZOFFSETTO:-0600
TZNAME:MDT
DTSTART:20240310T090000
END:DAYLIGHT
BEGIN:STANDARD
TZOFFSETFROM:-0600
TZOFFSETTO:-0700
TZNAME:MST
DTSTART:20241103T080000
END:STANDARD
BEGIN:DAYLIGHT
TZOFFSETFROM:-0700
TZOFFSETTO:-0600
TZNAME:MDT
DTSTART:20250309T090000
END:DAYLIGHT
BEGIN:STANDARD
TZOFFSETFROM:-0600
TZOFFSETTO:-0700
TZNAME:MST
DTSTART:20251102T080000
END:STANDARD
BEGIN:DAYLIGHT
TZOFFSETFROM:-0700
TZOFFSETTO:-0600
TZNAME:MDT
DTSTART:20260308T090000
END:DAYLIGHT
BEGIN:STANDARD
TZOFFSETFROM:-0600
TZOFFSETTO:-0700
TZNAME:MST
DTSTART:20261101T080000
END:STANDARD
END:VTIMEZONE
BEGIN:VEVENT
DTSTART;TZID=America/Denver:20251215T130000
DTEND;TZID=America/Denver:20251215T140000
DTSTAMP:20260424T080537
CREATED:20251022T222252Z
LAST-MODIFIED:20251023T155141Z
UID:10003392-1765803600-1765807200@www.stjohnsjackson.org
SUMMARY:Keeping Quiet
DESCRIPTION:There is a new weekly gathering available at St. John’s\, called “Keeping Quiet.” This group will meet on Mondays from 1:00 p.m. to 2:00 p.m. and is being led by Karen Rocky\, Kris Gridley and Susan Marsh. Our goal is to give participants a respite from racing minds and activity filled days by spending an hour together in quiet contemplation. Meetings will be held downstairs\, in the Johnson Library.  
URL:https://www.stjohnsjackson.org/event/keeping-quiet/2025-12-15/
ATTACH;FMTTYPE=image/jpeg:https://www.stjohnsjackson.org/wp-content/uploads/2025/10/KeepingQuietWebsite.jpg
END:VEVENT
BEGIN:VEVENT
DTSTART;TZID=America/Denver:20251215T173000
DTEND;TZID=America/Denver:20251215T183000
DTSTAMP:20260424T080537
CREATED:20251202T222656Z
LAST-MODIFIED:20251202T222656Z
UID:10004921-1765819800-1765823400@www.stjohnsjackson.org
SUMMARY:Blue Contemplative Christmas
DESCRIPTION:Monday\, Dec. 15 at 5:30 pm\nThis contemplative service in St. John’s Chapel offers a space to acknowledge the “blue” feelings many of us have this time of year. The loss of a loved one\, a relationship\, a job or a setback may bring pain\, confusion or fear. Join us for quiet reflection\, readings and the lighting of candles.
URL:https://www.stjohnsjackson.org/event/blue-contemplative-christmas/
LOCATION:St. John’s Chapel
ATTACH;FMTTYPE=image/jpeg:https://www.stjohnsjackson.org/wp-content/uploads/2025/12/sinitta-leunen-1nYKHPo8Z98-unsplash.jpg
END:VEVENT
END:VCALENDAR