BEGIN:VCALENDAR
VERSION:2.0
PRODID:-//St. John&#039;s Episcopal Church Jackson Hole, WY - ECPv6.15.20//NONSGML v1.0//EN
CALSCALE:GREGORIAN
METHOD:PUBLISH
X-WR-CALNAME:St. John&#039;s Episcopal Church Jackson Hole, WY
X-ORIGINAL-URL:https://www.stjohnsjackson.org
X-WR-CALDESC:Events for St. John&#039;s Episcopal Church Jackson Hole, WY
REFRESH-INTERVAL;VALUE=DURATION:PT1H
X-Robots-Tag:noindex
X-PUBLISHED-TTL:PT1H
BEGIN:VTIMEZONE
TZID:America/Denver
BEGIN:DAYLIGHT
TZOFFSETFROM:-0700
TZOFFSETTO:-0600
TZNAME:MDT
DTSTART:20240310T090000
END:DAYLIGHT
BEGIN:STANDARD
TZOFFSETFROM:-0600
TZOFFSETTO:-0700
TZNAME:MST
DTSTART:20241103T080000
END:STANDARD
BEGIN:DAYLIGHT
TZOFFSETFROM:-0700
TZOFFSETTO:-0600
TZNAME:MDT
DTSTART:20250309T090000
END:DAYLIGHT
BEGIN:STANDARD
TZOFFSETFROM:-0600
TZOFFSETTO:-0700
TZNAME:MST
DTSTART:20251102T080000
END:STANDARD
BEGIN:DAYLIGHT
TZOFFSETFROM:-0700
TZOFFSETTO:-0600
TZNAME:MDT
DTSTART:20260308T090000
END:DAYLIGHT
BEGIN:STANDARD
TZOFFSETFROM:-0600
TZOFFSETTO:-0700
TZNAME:MST
DTSTART:20261101T080000
END:STANDARD
END:VTIMEZONE
BEGIN:VEVENT
DTSTART;TZID=America/Denver:20251214T080000
DTEND;TZID=America/Denver:20251214T090000
DTSTAMP:20260422T055402
CREATED:20250626T123529Z
LAST-MODIFIED:20260121T165234Z
UID:10003913-1765699200-1765702800@www.stjohnsjackson.org
SUMMARY:Holy Communion
DESCRIPTION:Built in 1915\, the logs and stained glass chapel is listed on The National Register of Historic Places.
URL:https://www.stjohnsjackson.org/event/holy-communion-74/2025-12-14/
LOCATION:St. John’s Chapel \, St. John’s Chapel
ATTACH;FMTTYPE=image/jpeg:https://www.stjohnsjackson.org/wp-content/uploads/2024/07/cookbook-cover_334.jpg
END:VEVENT
BEGIN:VEVENT
DTSTART;TZID=America/Denver:20251214T090000
DTEND;TZID=America/Denver:20251214T094500
DTSTAMP:20260422T055402
CREATED:20250626T123528Z
LAST-MODIFIED:20260121T165304Z
UID:10004173-1765702800-1765705500@www.stjohnsjackson.org
SUMMARY:Adult Formation
DESCRIPTION:Join Brian between the Sunday services to chat about the Hebrew Scripture reading of the day. \nNo spoilers here\, you’ll have to show up in the Donnan Meeting Room (in St. John’s House) at 9:00 a.m. for a forty-five minute conversation. Grab some coffee in Hansen Hall first and come join us!
URL:https://www.stjohnsjackson.org/event/adult-formation-37/2025-12-14/
END:VEVENT
BEGIN:VEVENT
DTSTART;TZID=America/Denver:20251214T100000
DTEND;TZID=America/Denver:20251214T110000
DTSTAMP:20260422T055402
CREATED:20250626T123529Z
LAST-MODIFIED:20260121T165126Z
UID:10004434-1765706400-1765710000@www.stjohnsjackson.org
SUMMARY:Holy Communion\, Livestreamed
DESCRIPTION:A traditional Eucharist service with singing\, praying (silent & aloud)\, lessons from the Bible – including a Gospel reading – a sermon\, Holy Communion\, and a blessing. The service is livestreamed as we come together to worship.
URL:https://www.stjohnsjackson.org/event/holy-communion-livestreamed-37/2025-12-14/
LOCATION:St. John’s Episcopal Church of Jackson Hole\, 170 S Glenwood St\, Jackson\, WY\, United States
GEO:43.477771;-110.763645
X-APPLE-STRUCTURED-LOCATION;VALUE=URI;X-ADDRESS=St. John’s Episcopal Church of Jackson Hole 170 S Glenwood St Jackson WY United States;X-APPLE-RADIUS=500;X-TITLE=170 S Glenwood St:geo:-110.763645,43.477771
END:VEVENT
BEGIN:VEVENT
DTSTART;TZID=America/Denver:20251214T100000
DTEND;TZID=America/Denver:20251214T110000
DTSTAMP:20260422T055402
CREATED:20250626T123533Z
LAST-MODIFIED:20251023T161237Z
UID:10004688-1765706400-1765710000@www.stjohnsjackson.org
SUMMARY:Family Worship Service - Holy Communion
DESCRIPTION:Families actively participate at this traditional Communion with a children’s sermon.
URL:https://www.stjohnsjackson.org/event/family-worship-service-holy-communion-10/2025-12-14/
LOCATION:St. John’s Church
ATTACH;FMTTYPE=image/jpeg:https://www.stjohnsjackson.org/wp-content/uploads/2025/08/Acolytes2.jpg
END:VEVENT
BEGIN:VEVENT
DTSTART;TZID=America/Denver:20251214T110000
DTEND;TZID=America/Denver:20251214T120000
DTSTAMP:20260422T055402
CREATED:20250626T123531Z
LAST-MODIFIED:20251105T182425Z
UID:10003653-1765710000-1765713600@www.stjohnsjackson.org
SUMMARY:Coffee Hour
DESCRIPTION:Coffee Hour is a time of fellowship and socializing – a time to catch up with friends and acquaint yourself with new people of the congregation. At St. John’s\, we have a wonderful tradition of connection and hospitality and Coffee Hour is an integral part of that fellowship. \nSign up to host coffee hour!
URL:https://www.stjohnsjackson.org/event/coffee-hour-38/2025-12-14/
LOCATION:Hansen Hall
ATTACH;FMTTYPE=image/jpeg:https://www.stjohnsjackson.org/wp-content/uploads/2024/07/coffee-heart-image_548.jpg
END:VEVENT
BEGIN:VEVENT
DTSTART;TZID=America/Denver:20251214T113000
DTEND;TZID=America/Denver:20251214T130000
DTSTAMP:20260422T055402
CREATED:20251103T234352Z
LAST-MODIFIED:20251210T221133Z
UID:10004841-1765711800-1765717200@www.stjohnsjackson.org
SUMMARY:Christmas Potluck
DESCRIPTION:🎄 Christmas Tea\, Caroling & Ugly Sweater Contest — Sunday\, December 14 \nJoin us for an afternoon of Christmas cheer\, fellowship\, and fun after the 10:00 a.m. service!\nSt. John’s will host a joyful Christmas Tea\, and we’ll provide ham and rolls. Please sign up to bring finger foods\, appetizers\, or desserts — and especially cookies for the kids to decorate! \n👩‍🍳 Cookie Decorating Station:\nChildren (and grown-ups\, too!) are invited to decorate their own Christmas cookies with frosting\, sprinkles\, and festive toppings. It’s a sweet and creative way to share the spirit of the season — and to make a little mess and a lot of memories! \n🎶 Caroling & Tree Decorating:\nRon will lead us in singing favorite Christmas carols\, and everyone is welcome to help decorate the church Christmas tree after the tea. \n👕 Ugly Sweater Contest:\nWear your most delightfully tacky Christmas sweater — we’ll have a friendly contest and a few small prizes for the most festive (or funniest) outfits! \nCome for the carols\, stay for the cookies\, and enjoy this special time of Christmas fellowship at St. John’s!
URL:https://www.stjohnsjackson.org/event/christmas-potluck/
LOCATION:Hansen Hall
ATTACH;FMTTYPE=image/jpeg:https://www.stjohnsjackson.org/wp-content/uploads/2025/11/luna-hu-hpMS2zITq78-unsplash.jpg
END:VEVENT
BEGIN:VEVENT
DTSTART;TZID=America/Denver:20251214T180000
DTEND;TZID=America/Denver:20251214T193000
DTSTAMP:20260422T055402
CREATED:20251103T195714Z
LAST-MODIFIED:20251202T211459Z
UID:10004834-1765735200-1765740600@www.stjohnsjackson.org
SUMMARY:CAMPFIRE Presents: Are We Merry?
DESCRIPTION:Sun\, Dec. 14 at 6 p.m.\nCAMPFIRE is back at the Virginian Saloon for Are We Merry? Join us for a joy-filled conversation topped off with live music and a sing-along led by indie folk artist Joe Hunt. Bring friends and cheer—don’t worry\, we’ve got the kids covered with onsite childcare. Come get merry with us! \nThis is a part of the Are We Series. Traditionally on the 4th Sundays\, this gathering is led by the clergy and Margot Weber to help us group-source a little wisdom as together we navigate this beautiful and mystifying life. \nWe invite you to join us in creating a loving space to courageously unpack perceptions and preconceptions around what matters most in life. No experts\, only practitioners. Bring your knowing\, bring your questions\, and gather with us around the fire. Bring your fire and let it shine a little more brightly among those of other companions on the way.
URL:https://www.stjohnsjackson.org/event/campfire-presents-are-we-merry/
LOCATION:Virginian Saloon\, 636 W Broadway Ave\, Jackson\, WY\, United States
ATTACH;FMTTYPE=image/png:https://www.stjohnsjackson.org/wp-content/uploads/2025/11/Are-we-merry.png
GEO:43.476127;-110.773552
X-APPLE-STRUCTURED-LOCATION;VALUE=URI;X-ADDRESS=Virginian Saloon 636 W Broadway Ave Jackson WY United States;X-APPLE-RADIUS=500;X-TITLE=636 W Broadway Ave:geo:-110.773552,43.476127
END:VEVENT
END:VCALENDAR