BEGIN:VCALENDAR
VERSION:2.0
PRODID:-//St. John&#039;s Episcopal Church Jackson Hole, WY - ECPv6.15.20//NONSGML v1.0//EN
CALSCALE:GREGORIAN
METHOD:PUBLISH
X-ORIGINAL-URL:https://www.stjohnsjackson.org
X-WR-CALDESC:Events for St. John&#039;s Episcopal Church Jackson Hole, WY
REFRESH-INTERVAL;VALUE=DURATION:PT1H
X-Robots-Tag:noindex
X-PUBLISHED-TTL:PT1H
BEGIN:VTIMEZONE
TZID:America/Denver
BEGIN:DAYLIGHT
TZOFFSETFROM:-0700
TZOFFSETTO:-0600
TZNAME:MDT
DTSTART:20240310T090000
END:DAYLIGHT
BEGIN:STANDARD
TZOFFSETFROM:-0600
TZOFFSETTO:-0700
TZNAME:MST
DTSTART:20241103T080000
END:STANDARD
BEGIN:DAYLIGHT
TZOFFSETFROM:-0700
TZOFFSETTO:-0600
TZNAME:MDT
DTSTART:20250309T090000
END:DAYLIGHT
BEGIN:STANDARD
TZOFFSETFROM:-0600
TZOFFSETTO:-0700
TZNAME:MST
DTSTART:20251102T080000
END:STANDARD
BEGIN:DAYLIGHT
TZOFFSETFROM:-0700
TZOFFSETTO:-0600
TZNAME:MDT
DTSTART:20260308T090000
END:DAYLIGHT
BEGIN:STANDARD
TZOFFSETFROM:-0600
TZOFFSETTO:-0700
TZNAME:MST
DTSTART:20261101T080000
END:STANDARD
END:VTIMEZONE
BEGIN:VEVENT
DTSTART;TZID=America/Denver:20251101T090000
DTEND;TZID=America/Denver:20251101T120000
DTSTAMP:20260423T035350
CREATED:20251023T162409Z
LAST-MODIFIED:20251023T162507Z
UID:10004749-1761987600-1761998400@www.stjohnsjackson.org
SUMMARY:CPR Training
DESCRIPTION:What would you do if someone collapsed in the pew next to you? Do you know where AED is located? Would you know how to use it? Do you know how to perform CPR? Join us for CPR Training and use of the AED. \nDate: Saturday November 1\, 2025 \nTime: 9:00 am – 12:00 pm \nPlace: St John’s Episcopal Church – Hansen Hall. We have 3 spots remaining!  \nFore more details see CPR Training
URL:https://www.stjohnsjackson.org/event/cpr-training/
END:VEVENT
BEGIN:VEVENT
DTSTART;TZID=America/Denver:20251101T193000
DTEND;TZID=America/Denver:20251101T213000
DTSTAMP:20260423T035350
CREATED:20251023T161939Z
LAST-MODIFIED:20251023T161939Z
UID:10004747-1762025400-1762032600@www.stjohnsjackson.org
SUMMARY:Stargazing Event
DESCRIPTION:Please join Brian and JR for a night of stargazing and hot apple cider at The Chapel of the Transfiguration on Saturday\, November 1 from 7:30 p.m. until about 9:30 p.m. Check the weather before coming to make sure the skies are clear and if clear dress appropriately. We will have a large telescope to view the night sky and are grateful to Wyoming Stargazing for loaning us a telescope for this special event. Questions? Call JR at 612-749-3520.
URL:https://www.stjohnsjackson.org/event/stargazing-event/
ATTACH;FMTTYPE=image/jpeg:https://www.stjohnsjackson.org/wp-content/uploads/2025/10/Stargazing.jpg
END:VEVENT
END:VCALENDAR